BEGIN:VCALENDAR
VERSION:2.0
PRODID:-//Landesjugendring NRW - ECPv6.15.20//NONSGML v1.0//EN
CALSCALE:GREGORIAN
METHOD:PUBLISH
X-WR-CALNAME:Landesjugendring NRW
X-ORIGINAL-URL:https://www.ljr-nrw.de
X-WR-CALDESC:Veranstaltungen für Landesjugendring NRW
REFRESH-INTERVAL;VALUE=DURATION:PT1H
X-Robots-Tag:noindex
X-PUBLISHED-TTL:PT1H
BEGIN:VTIMEZONE
TZID:Europe/Berlin
BEGIN:DAYLIGHT
TZOFFSETFROM:+0100
TZOFFSETTO:+0200
TZNAME:CEST
DTSTART:20240331T010000
END:DAYLIGHT
BEGIN:STANDARD
TZOFFSETFROM:+0200
TZOFFSETTO:+0100
TZNAME:CET
DTSTART:20241027T010000
END:STANDARD
BEGIN:DAYLIGHT
TZOFFSETFROM:+0100
TZOFFSETTO:+0200
TZNAME:CEST
DTSTART:20250330T010000
END:DAYLIGHT
BEGIN:STANDARD
TZOFFSETFROM:+0200
TZOFFSETTO:+0100
TZNAME:CET
DTSTART:20251026T010000
END:STANDARD
BEGIN:DAYLIGHT
TZOFFSETFROM:+0100
TZOFFSETTO:+0200
TZNAME:CEST
DTSTART:20260329T010000
END:DAYLIGHT
BEGIN:STANDARD
TZOFFSETFROM:+0200
TZOFFSETTO:+0100
TZNAME:CET
DTSTART:20261025T010000
END:STANDARD
END:VTIMEZONE
BEGIN:VEVENT
DTSTART;VALUE=DATE:20251105
DTEND;VALUE=DATE:20251106
DTSTAMP:20260421T131328
CREATED:20250623T121845Z
LAST-MODIFIED:20250703T061229Z
UID:434951-1762300800-1762387199@www.ljr-nrw.de
SUMMARY:Lyrikwettbewerb „Connected - Wie ich mit der Welt zusammenhänge“
DESCRIPTION:Unter dem Titel „Connected – Wie ich mit der Welt zusammenhänge“ startet das Onlinemagazin www.LizzyNet.de einen bundesweiten Lyrik- und Poetrywettbewerb für junge Nachwuchsautor_innen zwischen 10 und 26 Jahren. \nThema des Schreibwettbewerbs ist die lyrische Auseinandersetzung mit den Licht- und Schattenseiten unseres Wohlstands und den Auswirkungen unseres Handelns hier auf andere Regionen und Gesellschaften. Gefragt sind sprachliche Kunstwerke\, die eine „Connection“ zwischen Menschen auf der ganzen Welt sichtbar machen und ihre Stimme erheben für eine nachhaltige solidarische Weltgemeinschaft\, in der alles mit allem verbunden ist. Das Projekt wird gefördert von ENGAGEMENT GLOBAL im Auftrag des Bundesministeriums für wirtschaftliche Zusammenarbeit und Entwicklung (BMZ). \nEingereicht werden können Gedichte\, Haikus\, Elfchen\, Balladen oder Poetry-Texte mit einer Zeichenbegrenzung bis 5.000 Zeichen. \nEinsendeschluss ist der 5. November 2025. \nWeitere Informationen hier
URL:https://www.ljr-nrw.de/termin/lyrikwettbewerb-connected-wie-ich-mit-der-welt-zusammenhaenge/
CATEGORIES:Ausschreibungen/ Wettbewerbe
ATTACH;FMTTYPE=image/webp:https://www.ljr-nrw.de/wp-content/uploads/2018/11/termin-wettbewerbe.webp
END:VEVENT
END:VCALENDAR