BEGIN:VCALENDAR
VERSION:2.0
PRODID:-//Landesjugendring NRW - ECPv6.15.20//NONSGML v1.0//EN
CALSCALE:GREGORIAN
METHOD:PUBLISH
X-ORIGINAL-URL:https://www.ljr-nrw.de
X-WR-CALDESC:Veranstaltungen für Landesjugendring NRW
REFRESH-INTERVAL;VALUE=DURATION:PT1H
X-Robots-Tag:noindex
X-PUBLISHED-TTL:PT1H
BEGIN:VTIMEZONE
TZID:Europe/Berlin
BEGIN:DAYLIGHT
TZOFFSETFROM:+0100
TZOFFSETTO:+0200
TZNAME:CEST
DTSTART:20240331T010000
END:DAYLIGHT
BEGIN:STANDARD
TZOFFSETFROM:+0200
TZOFFSETTO:+0100
TZNAME:CET
DTSTART:20241027T010000
END:STANDARD
BEGIN:DAYLIGHT
TZOFFSETFROM:+0100
TZOFFSETTO:+0200
TZNAME:CEST
DTSTART:20250330T010000
END:DAYLIGHT
BEGIN:STANDARD
TZOFFSETFROM:+0200
TZOFFSETTO:+0100
TZNAME:CET
DTSTART:20251026T010000
END:STANDARD
BEGIN:DAYLIGHT
TZOFFSETFROM:+0100
TZOFFSETTO:+0200
TZNAME:CEST
DTSTART:20260329T010000
END:DAYLIGHT
BEGIN:STANDARD
TZOFFSETFROM:+0200
TZOFFSETTO:+0100
TZNAME:CET
DTSTART:20261025T010000
END:STANDARD
END:VTIMEZONE
BEGIN:VEVENT
DTSTART;VALUE=DATE:20251010
DTEND;VALUE=DATE:20251011
DTSTAMP:20260421T143631
CREATED:20250828T093339Z
LAST-MODIFIED:20250828T123835Z
UID:435377-1760054400-1760140799@www.ljr-nrw.de
SUMMARY:Förderpreis 2025 „Junge Menschen (machen das) zusammen“ für gesellschaftliches Miteinander
DESCRIPTION:Mit diesem Förderpreis des Landespräventionsrats NRW sollen Kinder und Jugendliche ermutigt und unterstützt werden\, eigene gemeinschaftsbezogene\, demokratieförderliche sowie prosoziale Aktivitäten und Projekte im Rahmen des Grundgesetzes nachhaltig umzusetzen. Sie können in einem selbst erstellten Videoclip (max. 5 Minuten) beschreiben\, wie Probleme\, Konflikte oder gesellschaftliche Herausforderungen vor Ort gemeinsam angegangen werden.\nDie Aktivitäten und Konzepte müssen auf dauerhafte Strukturen ausgerichtet werden\, damit andere ebenfalls davon profitieren können.\nAusgezeichnet werden maximal zehn Projekte mit einem Preisgeld in Höhe von jeweils 2.000 Euro.\nBewerben können sich Institutionen aus NRW\, die Kinder und Jugendliche im Alter von 12 – 17 Jahren betreuen (z.B. Schulen\, Vereine\, Einrichtungen der Jugendhilfe). \nBewerbungsschluss ist der 10. Oktober 2025. \nWeitere Informationen gibt es hier
URL:https://www.ljr-nrw.de/termin/foerderpreis-2025-junge-menschen-machen-das-zusammen-fuer-gesellschaftliches-miteinander/
CATEGORIES:Ausschreibungen/ Wettbewerbe
ATTACH;FMTTYPE=image/webp:https://www.ljr-nrw.de/wp-content/uploads/2018/11/termin-wettbewerbe.webp
END:VEVENT
END:VCALENDAR