BEGIN:VCALENDAR
VERSION:2.0
PRODID:-//Landesjugendring NRW - ECPv6.15.20//NONSGML v1.0//EN
CALSCALE:GREGORIAN
METHOD:PUBLISH
X-ORIGINAL-URL:https://www.ljr-nrw.de
X-WR-CALDESC:Veranstaltungen für Landesjugendring NRW
REFRESH-INTERVAL;VALUE=DURATION:PT1H
X-Robots-Tag:noindex
X-PUBLISHED-TTL:PT1H
BEGIN:VTIMEZONE
TZID:Europe/Berlin
BEGIN:DAYLIGHT
TZOFFSETFROM:+0100
TZOFFSETTO:+0200
TZNAME:CEST
DTSTART:20240331T010000
END:DAYLIGHT
BEGIN:STANDARD
TZOFFSETFROM:+0200
TZOFFSETTO:+0100
TZNAME:CET
DTSTART:20241027T010000
END:STANDARD
BEGIN:DAYLIGHT
TZOFFSETFROM:+0100
TZOFFSETTO:+0200
TZNAME:CEST
DTSTART:20250330T010000
END:DAYLIGHT
BEGIN:STANDARD
TZOFFSETFROM:+0200
TZOFFSETTO:+0100
TZNAME:CET
DTSTART:20251026T010000
END:STANDARD
BEGIN:DAYLIGHT
TZOFFSETFROM:+0100
TZOFFSETTO:+0200
TZNAME:CEST
DTSTART:20260329T010000
END:DAYLIGHT
BEGIN:STANDARD
TZOFFSETFROM:+0200
TZOFFSETTO:+0100
TZNAME:CET
DTSTART:20261025T010000
END:STANDARD
END:VTIMEZONE
BEGIN:VEVENT
DTSTART;VALUE=DATE:20250905
DTEND;VALUE=DATE:20250906
DTSTAMP:20260421T161054
CREATED:20250526T114033Z
LAST-MODIFIED:20250526T114033Z
UID:434818-1757030400-1757116799@www.ljr-nrw.de
SUMMARY:Deutscher Jugend-Naturschutzpreis 2025
DESCRIPTION:Gemeinsam für die Natur – Jugendliche gestalten Zukunft! \nOb Naturbildung\, praktische\, digitale\, künstlerische\, soziale\, wissenschaftliche oder andere Initiativen – das Bundesamt für Naturschutz freut sich auf  innovativen Ideen zum Engagement für den Naturschutz. \nJunge Menschen zwischen 13 und 21 Jahren\, die sich für die Natur einsetzen\, spannende Vorhaben umgesetzt haben – ob praktisch\, kreativ\, digital oder wissenschaftlich –\, können sich jetzt für den Deutschen Jugend-Naturschutzpreis 2025 bewerben. \nInsgesamt warten 10.000\,- Euro Preisgeld für die überzeugendsten Ideen. \nCornelia Funke\, bekannte Jugendbuchautorin und Naturschützerin\, unterstützt den Preis als Schirmherrin und Jurymitglied. \nEinsendeschluss ist der 5. September 2025. \nWeitere Infos finden sich hier. \n 
URL:https://www.ljr-nrw.de/termin/deutscher-jugend-naturschutzpreis-2025/
CATEGORIES:Ausschreibungen/ Wettbewerbe
ATTACH;FMTTYPE=image/webp:https://www.ljr-nrw.de/wp-content/uploads/2018/11/termin-wettbewerbe.webp
END:VEVENT
END:VCALENDAR