BEGIN:VCALENDAR
VERSION:2.0
PRODID:-//Landesjugendring NRW - ECPv6.15.20//NONSGML v1.0//EN
CALSCALE:GREGORIAN
METHOD:PUBLISH
X-ORIGINAL-URL:https://www.ljr-nrw.de
X-WR-CALDESC:Veranstaltungen für Landesjugendring NRW
REFRESH-INTERVAL;VALUE=DURATION:PT1H
X-Robots-Tag:noindex
X-PUBLISHED-TTL:PT1H
BEGIN:VTIMEZONE
TZID:Europe/Berlin
BEGIN:DAYLIGHT
TZOFFSETFROM:+0100
TZOFFSETTO:+0200
TZNAME:CEST
DTSTART:20240331T010000
END:DAYLIGHT
BEGIN:STANDARD
TZOFFSETFROM:+0200
TZOFFSETTO:+0100
TZNAME:CET
DTSTART:20241027T010000
END:STANDARD
BEGIN:DAYLIGHT
TZOFFSETFROM:+0100
TZOFFSETTO:+0200
TZNAME:CEST
DTSTART:20250330T010000
END:DAYLIGHT
BEGIN:STANDARD
TZOFFSETFROM:+0200
TZOFFSETTO:+0100
TZNAME:CET
DTSTART:20251026T010000
END:STANDARD
BEGIN:DAYLIGHT
TZOFFSETFROM:+0100
TZOFFSETTO:+0200
TZNAME:CEST
DTSTART:20260329T010000
END:DAYLIGHT
BEGIN:STANDARD
TZOFFSETFROM:+0200
TZOFFSETTO:+0100
TZNAME:CET
DTSTART:20261025T010000
END:STANDARD
END:VTIMEZONE
BEGIN:VEVENT
DTSTART;VALUE=DATE:20250818
DTEND;VALUE=DATE:20250831
DTSTAMP:20260421T172813
CREATED:20250526T092551Z
LAST-MODIFIED:20250526T092551Z
UID:434810-1755475200-1756598399@www.ljr-nrw.de
SUMMARY:Jugendliche Teilnehmer_innen für Kreativ-Camp gesucht!
DESCRIPTION:Der Verein KAJA West e.V. organisiert in diesem Jahr das Kreativcamp 25 “Resilience by Art”\, bei dem junge Menschen aus verschiedenen europäischen Ländern zusammenkommen und gemeinsam in künstlerischen Projekten zu gesellschaftlichen Themen kollaborieren können. \nGesucht werden Partnervereine und Teilnehmende aus NRW\, die das deutsche Teilnehmendenfeld mit fünf Jugendlichen/jungen Erwachsenen – max. 25 Jahre – komplettieren. \nMehr Infos und Anmeldung hier.
URL:https://www.ljr-nrw.de/termin/jugendliche-teilnehmer_innen-fuer-kreativ-camp-gesucht/
LOCATION:Ja!Space\, Neumagener Str. 13\, Berlin\, Berlin\, 13088\, Germany
CATEGORIES:Termine
ATTACH;FMTTYPE=image/webp:https://www.ljr-nrw.de/wp-content/uploads/2018/11/termin-termine.webp
END:VEVENT
BEGIN:VEVENT
DTSTART;TZID=Europe/Berlin:20250818T110000
DTEND;TZID=Europe/Berlin:20250823T140000
DTSTAMP:20260421T172813
CREATED:20250526T124101Z
LAST-MODIFIED:20250526T124138Z
UID:434820-1755514800-1755957600@www.ljr-nrw.de
SUMMARY:Werde Peersupporter_in beim Queersupport!
DESCRIPTION:Du bist queer\, unter 27 und hast Lust\, andere junge Queers zu unterstützen? Dann sei dabei bei der diesjährige Bewerbungsrunde für die Queersupporter_innen-Ausbildung bei Lambda. Themenblöcke der Ausbildung sind u.a. Diskriminierung\, Privilegien und Positionierung\, (systemische) Peerberatung im Einzelsetting\, Moderation von Gruppen und Umgang mit Beratungssoftware. \nMehr Informationen und Bewerbung hier.
URL:https://www.ljr-nrw.de/termin/werde-peersupporter_in-beim-queersupport/
LOCATION:Jugendherberge Eschwege\, Jardin-de-Saint-Mandé 1\, Eschwege\, 37269
CATEGORIES:Termine
ATTACH;FMTTYPE=image/webp:https://www.ljr-nrw.de/wp-content/uploads/2018/11/termin-termine.webp
END:VEVENT
END:VCALENDAR