BEGIN:VCALENDAR
VERSION:2.0
PRODID:-//Landesjugendring NRW - ECPv6.15.20//NONSGML v1.0//EN
CALSCALE:GREGORIAN
METHOD:PUBLISH
X-ORIGINAL-URL:https://www.ljr-nrw.de
X-WR-CALDESC:Veranstaltungen für Landesjugendring NRW
REFRESH-INTERVAL;VALUE=DURATION:PT1H
X-Robots-Tag:noindex
X-PUBLISHED-TTL:PT1H
BEGIN:VTIMEZONE
TZID:Europe/Berlin
BEGIN:DAYLIGHT
TZOFFSETFROM:+0100
TZOFFSETTO:+0200
TZNAME:CEST
DTSTART:20240331T010000
END:DAYLIGHT
BEGIN:STANDARD
TZOFFSETFROM:+0200
TZOFFSETTO:+0100
TZNAME:CET
DTSTART:20241027T010000
END:STANDARD
BEGIN:DAYLIGHT
TZOFFSETFROM:+0100
TZOFFSETTO:+0200
TZNAME:CEST
DTSTART:20250330T010000
END:DAYLIGHT
BEGIN:STANDARD
TZOFFSETFROM:+0200
TZOFFSETTO:+0100
TZNAME:CET
DTSTART:20251026T010000
END:STANDARD
BEGIN:DAYLIGHT
TZOFFSETFROM:+0100
TZOFFSETTO:+0200
TZNAME:CEST
DTSTART:20260329T010000
END:DAYLIGHT
BEGIN:STANDARD
TZOFFSETFROM:+0200
TZOFFSETTO:+0100
TZNAME:CET
DTSTART:20261025T010000
END:STANDARD
END:VTIMEZONE
BEGIN:VEVENT
DTSTART;VALUE=DATE:20250513
DTEND;VALUE=DATE:20250516
DTSTAMP:20260421T221149
CREATED:20230712T071535Z
LAST-MODIFIED:20240812T100105Z
UID:426316-1747094400-1747353599@www.ljr-nrw.de
SUMMARY:18. Deutsche Kinder- und Jugendhilfetag (DJHT)
DESCRIPTION:Unter dem Motto „Weil es ums Ganze geht: Demokratie durch Teilhabe verwirklichen!“ findet vom 13. bis 15. Mai 2025 der 18. Deutsche Kinder- und Jugendhilfetag (DJHT) in Leipzig statt. Der DJHT wird von der Arbeitsgemeinschaft für Kinder- und Jugendhilfe – AGJ veranstaltet und ist der größte Fachkongress mit integrierter Fachmesse für die Kinder- und Jugendhilfe in Europa. Viele Mitgliedsorganisationen und auch der DBJR werden mit einem Stand auf der Fachmesse und/oder einer Fachveranstaltung vertreten sein. \nFür kurzentschlossene besteht noch bis 31. August 2024 die Möglichkeit\, einen Messestand anzumelden. Weitere Informationen finden sich unter https://www.jugendhilfetag.de/service/informationen-fuer-veranstalterinnen-und-ausstellerinnen/
URL:https://www.ljr-nrw.de/termin/djht-vom-13-15-mai-2025/
LOCATION:Leipzig
CATEGORIES:Termine
ATTACH;FMTTYPE=image/webp:https://www.ljr-nrw.de/wp-content/uploads/2018/11/termin-termine.webp
END:VEVENT
END:VCALENDAR