BEGIN:VCALENDAR
VERSION:2.0
PRODID:-//Landesjugendring NRW - ECPv6.15.20//NONSGML v1.0//EN
CALSCALE:GREGORIAN
METHOD:PUBLISH
X-ORIGINAL-URL:https://www.ljr-nrw.de
X-WR-CALDESC:Veranstaltungen für Landesjugendring NRW
REFRESH-INTERVAL;VALUE=DURATION:PT1H
X-Robots-Tag:noindex
X-PUBLISHED-TTL:PT1H
BEGIN:VTIMEZONE
TZID:Europe/Berlin
BEGIN:DAYLIGHT
TZOFFSETFROM:+0100
TZOFFSETTO:+0200
TZNAME:CEST
DTSTART:20240331T010000
END:DAYLIGHT
BEGIN:STANDARD
TZOFFSETFROM:+0200
TZOFFSETTO:+0100
TZNAME:CET
DTSTART:20241027T010000
END:STANDARD
BEGIN:DAYLIGHT
TZOFFSETFROM:+0100
TZOFFSETTO:+0200
TZNAME:CEST
DTSTART:20250330T010000
END:DAYLIGHT
BEGIN:STANDARD
TZOFFSETFROM:+0200
TZOFFSETTO:+0100
TZNAME:CET
DTSTART:20251026T010000
END:STANDARD
BEGIN:DAYLIGHT
TZOFFSETFROM:+0100
TZOFFSETTO:+0200
TZNAME:CEST
DTSTART:20260329T010000
END:DAYLIGHT
BEGIN:STANDARD
TZOFFSETFROM:+0200
TZOFFSETTO:+0100
TZNAME:CET
DTSTART:20261025T010000
END:STANDARD
END:VTIMEZONE
BEGIN:VEVENT
DTSTART;TZID=Europe/Berlin:20250313T100000
DTEND;TZID=Europe/Berlin:20250313T160000
DTSTAMP:20260422T011622
CREATED:20250116T144952Z
LAST-MODIFIED:20250116T144952Z
UID:433976-1741860000-1741881600@www.ljr-nrw.de
SUMMARY:Und Du so?! - Fachtag zur Wahrnehmung aktueller Jugendstudien und Konsequenzen für die Praxis
DESCRIPTION:Dieser interdisziplinäre Fachtag widmet sich den aktuellen Studien aus der Jugendforschung\, um ein Gespür für die Werte und Themen der jungen Generation zu bekommen. Dafür sind sowohl eine Keynote sowie ein „Marktplatz“ der Studien und themenspezifische Workshops mit Perspektiven für die Weiterarbeit geplant.  \nDer Fachtag ist eine Kooperation der Ämter für Jugendarbeit Rheinland und Westfalen mit dem Evangelischen Jugendreferat Essen und dem Evangelischen Schulreferat Mülheim\, Essen\, Oberhausen.  \nAnmeldeschluss ist der 6. März 2025. \nWeitere Informationen und Anmeldung hier 
URL:https://www.ljr-nrw.de/termin/und-du-so-fachtag-zur-wahrnehmung-aktueller-jugendstudien-und-konsequenzen-fuer-die-praxis/
LOCATION:Haus der Kirche Essen\, III. Hagen 39\, Essen\, 45127
CATEGORIES:Termine
ATTACH;FMTTYPE=image/webp:https://www.ljr-nrw.de/wp-content/uploads/2018/11/termin-termine.webp
END:VEVENT
END:VCALENDAR