BEGIN:VCALENDAR
VERSION:2.0
PRODID:-//Landesjugendring NRW - ECPv6.15.20//NONSGML v1.0//EN
CALSCALE:GREGORIAN
METHOD:PUBLISH
X-ORIGINAL-URL:https://www.ljr-nrw.de
X-WR-CALDESC:Veranstaltungen für Landesjugendring NRW
REFRESH-INTERVAL;VALUE=DURATION:PT1H
X-Robots-Tag:noindex
X-PUBLISHED-TTL:PT1H
BEGIN:VTIMEZONE
TZID:Europe/Berlin
BEGIN:DAYLIGHT
TZOFFSETFROM:+0100
TZOFFSETTO:+0200
TZNAME:CEST
DTSTART:20230326T010000
END:DAYLIGHT
BEGIN:STANDARD
TZOFFSETFROM:+0200
TZOFFSETTO:+0100
TZNAME:CET
DTSTART:20231029T010000
END:STANDARD
BEGIN:DAYLIGHT
TZOFFSETFROM:+0100
TZOFFSETTO:+0200
TZNAME:CEST
DTSTART:20240331T010000
END:DAYLIGHT
BEGIN:STANDARD
TZOFFSETFROM:+0200
TZOFFSETTO:+0100
TZNAME:CET
DTSTART:20241027T010000
END:STANDARD
BEGIN:DAYLIGHT
TZOFFSETFROM:+0100
TZOFFSETTO:+0200
TZNAME:CEST
DTSTART:20250330T010000
END:DAYLIGHT
BEGIN:STANDARD
TZOFFSETFROM:+0200
TZOFFSETTO:+0100
TZNAME:CET
DTSTART:20251026T010000
END:STANDARD
END:VTIMEZONE
BEGIN:VEVENT
DTSTART;VALUE=DATE:20241009
DTEND;VALUE=DATE:20241010
DTSTAMP:20260422T084125
CREATED:20240925T094205Z
LAST-MODIFIED:20240925T094416Z
UID:433368-1728432000-1728518399@www.ljr-nrw.de
SUMMARY:DBJR sucht Projektreferent_in für Jugendbeteiligung in Klimafragen
DESCRIPTION:Der Deutsche Bundesjugendring sucht zum 1. Dezember 2024 eine_n Projektreferent_in im Rahmen der Koordinierungsstelle für Jugendbeteiligung in Klimafragen. Die Stelle ist befristet bis zum 31. Dezember 2027 und umfasst 75% der betrieblichen Arbeitszeit. Aufgaben sind unter anderem die Koordination von Gesprächs- und Veranstaltungsformaten zwischen Jugendorganisationen und dem BMWK (Bundesministerium für Wirtschaft und Klimaschutz)\, sowie die Begleitung von Öffentlichkeitsarbeit und thematischen Arbeitsgruppen. \nBewerbungsschluss ist der 9. Oktober 2024. \nWeitere Informationen finden sich hier.
URL:https://www.ljr-nrw.de/termin/dbjr-sucht-projektreferent_in-fuer-jugendbeteiligung-in-klimafragen/
CATEGORIES:Jobs
ATTACH;FMTTYPE=image/webp:https://www.ljr-nrw.de/wp-content/uploads/2018/11/termin-jobs.webp
END:VEVENT
BEGIN:VEVENT
DTSTART;TZID=Europe/Berlin:20241028T100000
DTEND;TZID=Europe/Berlin:20241029T170000
DTSTAMP:20260422T084125
CREATED:20240917T134223Z
LAST-MODIFIED:20240917T134223Z
UID:433328-1730109600-1730221200@www.ljr-nrw.de
SUMMARY:Maskulinistische Influencer in der Jungen_arbeit - Fortbildung der LAG Jungenarbeit
DESCRIPTION:In dieser Fortbildung geht es um maskulinistische Influencer\, traditionelle Männlichkeitsbilder sowie Möglichkeiten\, diese in der pädagogischen Arbeit mit Jugendlichen zu bearbeiten. Zudem werden Handlungsansätze erarbeitet\, die Fachkräfte dabei unterstützen können\, Jungen und junge Männer bei kritischen Auseinandersetzungsprozessen mit anti-egalitären und einschränkenden Männlichkeitsbildern zu begleiten und damit sexistischen\, homo-\, trans_- und inter_feindlichen Einstellungen präventiv zu begegnen. \nWeitere Informationen und Anmeldung hier.
URL:https://www.ljr-nrw.de/termin/maskulinistische-influencer-in-der-jungen_arbeit-fortbildung-der-lag-jungenarbeit/
LOCATION:Bürgerhaus Kalk\, Köln
CATEGORIES:Termine
ATTACH;FMTTYPE=image/webp:https://www.ljr-nrw.de/wp-content/uploads/2018/11/termin-termine.webp
END:VEVENT
END:VCALENDAR