BEGIN:VCALENDAR
VERSION:2.0
PRODID:-//Landesjugendring NRW - ECPv6.15.20//NONSGML v1.0//EN
CALSCALE:GREGORIAN
METHOD:PUBLISH
X-ORIGINAL-URL:https://www.ljr-nrw.de
X-WR-CALDESC:Veranstaltungen für Landesjugendring NRW
REFRESH-INTERVAL;VALUE=DURATION:PT1H
X-Robots-Tag:noindex
X-PUBLISHED-TTL:PT1H
BEGIN:VTIMEZONE
TZID:Europe/Berlin
BEGIN:DAYLIGHT
TZOFFSETFROM:+0100
TZOFFSETTO:+0200
TZNAME:CEST
DTSTART:20230326T010000
END:DAYLIGHT
BEGIN:STANDARD
TZOFFSETFROM:+0200
TZOFFSETTO:+0100
TZNAME:CET
DTSTART:20231029T010000
END:STANDARD
BEGIN:DAYLIGHT
TZOFFSETFROM:+0100
TZOFFSETTO:+0200
TZNAME:CEST
DTSTART:20240331T010000
END:DAYLIGHT
BEGIN:STANDARD
TZOFFSETFROM:+0200
TZOFFSETTO:+0100
TZNAME:CET
DTSTART:20241027T010000
END:STANDARD
BEGIN:DAYLIGHT
TZOFFSETFROM:+0100
TZOFFSETTO:+0200
TZNAME:CEST
DTSTART:20250330T010000
END:DAYLIGHT
BEGIN:STANDARD
TZOFFSETFROM:+0200
TZOFFSETTO:+0100
TZNAME:CET
DTSTART:20251026T010000
END:STANDARD
END:VTIMEZONE
BEGIN:VEVENT
DTSTART;TZID=Europe/Berlin:20240905T100000
DTEND;TZID=Europe/Berlin:20240905T150000
DTSTAMP:20260422T100356
CREATED:20240729T072433Z
LAST-MODIFIED:20240829T092537Z
UID:433023-1725530400-1725548400@www.ljr-nrw.de
SUMMARY:Workshop: Ernährung als Baustein klimafreundlicher Veranstaltungen
DESCRIPTION:Wie können wir nachhaltige Ernährung auf unseren Veranstaltungen umsetzen? Wie kann man darüber hinaus eine Veranstaltung ökologisch nachhaltiger gestalten? Was gilt es bei der Planung zu beachten\, welche Konfliktlinien gibt es? Wie können wir mit Hürden und eventuellem Widerstand umgehen?\nGemeinsam mit Sandra Kolberg und Susanne Dittmar\, zwei  Referentinnen der Grünen Liga Berlin werden wir uns diesen Fragen in einem Workshop widmen. \nDie Grüne Liga Berlin ist ein anerkannter Umwelt- und Naturschutzverband\, der maßgeblich an der ökologischen Umgestaltung Berlins mitwirkt. Neben zahlreichen Bildungsprojekten\, Beratungsangeboten und eigenen klimafreundlichen Veranstaltungen wie bspw. dem Umweltfestival am Brandenburger Tor wirkte die Grüne Liga Berlin auch bei der Erstellung eines Handlungsleitfadens für klimafreundliche Veranstaltungen der Stadt Berlin mit. \nAnmeldeschluss ist der 2. September 2024. \n  \n\n	Hinweis: Für diesen Inhalt ist JavaScript erforderlich.
URL:https://www.ljr-nrw.de/termin/workshop-ernaehrung-als-baustein-klimafreundlicher-veranstaltungen/
LOCATION:Landesjugendring NRW\, Sternstraße 9 - 11\, Düsseldorf\, 40479
CATEGORIES:Termine
ATTACH;FMTTYPE=image/webp:https://www.ljr-nrw.de/wp-content/uploads/2022/08/ljr_themenbild_nachhaltigkeit.webp
END:VEVENT
BEGIN:VEVENT
DTSTART;VALUE=DATE:20240908
DTEND;VALUE=DATE:20240909
DTSTAMP:20260422T100356
CREATED:20240826T125332Z
LAST-MODIFIED:20240826T125332Z
UID:433167-1725753600-1725839999@www.ljr-nrw.de
SUMMARY:NABU NRW sucht Projektleiter_in für das Bündnis Sozialverträgliche Mobilitätswende NRW
DESCRIPTION:Der NABU NRW sucht zum nächstmöglichen Zeitpunkt eine_n Projektleiter_in (m/w/d) für das Bündnis Sozialverträgliche Mobilitätswende NRW. Die Stelle hat einen Umfang von 30 Wochenarbeitsstunden und ist auf zwei Jahre befristet. Die Vergütung erfolgt nach dem Gehaltssystem des NABU NRW\, Entgeltgruppe 11. \nBewerbungsschluss ist der 8. September 2024. \nWeitere Informationen finden sich hier.
URL:https://www.ljr-nrw.de/termin/nabu-nrw-sucht-projektleiter_in-fuer-das-buendnis-sozialvertraegliche-mobilitaetswende-nrw/
CATEGORIES:Jobs
ATTACH;FMTTYPE=image/webp:https://www.ljr-nrw.de/wp-content/uploads/2018/11/termin-jobs.webp
END:VEVENT
BEGIN:VEVENT
DTSTART;TZID=Europe/Berlin:20240924T093000
DTEND;TZID=Europe/Berlin:20240925T123000
DTSTAMP:20260422T100356
CREATED:20240620T112109Z
LAST-MODIFIED:20240620T113005Z
UID:428273-1727170200-1727267400@www.ljr-nrw.de
SUMMARY:Einführung in die Dialogische Haltung
DESCRIPTION:Die LVR-Koordinationsstelle Kinderarmut lädt zur digitalen Veranstaltung „Einführung in die Dialogische Haltung“ ein.\nRespekt vor der Individualität der Menschen und deren unterschiedlichen Lebensentwürfen macht eine Begegnung auf Augenhöhe möglich. Damit unterstützt und erweitert die Dialogische Haltung unseren diversitätssensiblen Gesamtblick – eine wichtige Kompetenz gerade auch für Fachkräfte\, die in armutspräventiven Praxisfeldern und Angeboten tätig sind. Die Reflexion der eigenen professionellen Haltung wird methodisch in dem zweitägigen Seminar im Fokus stehen.\nDas Seminar besteht aus zwei Seminareinheiten und findet an beiden Tagen jeweils in der Zeit von 9:30 Uhr (ab 9:15 Uhr Technik-Check) bis 12:30 Uhr als Zoom-Meeting statt. Der Teilnahmebeitrag beträgt 48 Euro für beide Seminareinheiten. \nAnmeldeschluss ist der 27. August 2024. \nWeitere Informationen hier 
URL:https://www.ljr-nrw.de/termin/einfuehrung-in-die-dialogische-haltung/
LOCATION:Online
CATEGORIES:Termine
ATTACH;FMTTYPE=image/webp:https://www.ljr-nrw.de/wp-content/uploads/2018/11/termin-termine.webp
END:VEVENT
END:VCALENDAR