BEGIN:VCALENDAR
VERSION:2.0
PRODID:-//Landesjugendring NRW - ECPv6.15.20//NONSGML v1.0//EN
CALSCALE:GREGORIAN
METHOD:PUBLISH
X-WR-CALNAME:Landesjugendring NRW
X-ORIGINAL-URL:https://www.ljr-nrw.de
X-WR-CALDESC:Veranstaltungen für Landesjugendring NRW
REFRESH-INTERVAL;VALUE=DURATION:PT1H
X-Robots-Tag:noindex
X-PUBLISHED-TTL:PT1H
BEGIN:VTIMEZONE
TZID:Europe/Berlin
BEGIN:DAYLIGHT
TZOFFSETFROM:+0100
TZOFFSETTO:+0200
TZNAME:CEST
DTSTART:20230326T010000
END:DAYLIGHT
BEGIN:STANDARD
TZOFFSETFROM:+0200
TZOFFSETTO:+0100
TZNAME:CET
DTSTART:20231029T010000
END:STANDARD
BEGIN:DAYLIGHT
TZOFFSETFROM:+0100
TZOFFSETTO:+0200
TZNAME:CEST
DTSTART:20240331T010000
END:DAYLIGHT
BEGIN:STANDARD
TZOFFSETFROM:+0200
TZOFFSETTO:+0100
TZNAME:CET
DTSTART:20241027T010000
END:STANDARD
BEGIN:DAYLIGHT
TZOFFSETFROM:+0100
TZOFFSETTO:+0200
TZNAME:CEST
DTSTART:20250330T010000
END:DAYLIGHT
BEGIN:STANDARD
TZOFFSETFROM:+0200
TZOFFSETTO:+0100
TZNAME:CET
DTSTART:20251026T010000
END:STANDARD
END:VTIMEZONE
BEGIN:VEVENT
DTSTART;VALUE=DATE:20240725
DTEND;VALUE=DATE:20240728
DTSTAMP:20260422T130611
CREATED:20240522T120731Z
LAST-MODIFIED:20240522T120936Z
UID:431800-1721865600-1722124799@www.ljr-nrw.de
SUMMARY:Jugendpresse: Einladung zu “Vlog the Future”\, dem Jugend-Medien-Workshop zum UN-Zukunftsgipfel 2024
DESCRIPTION:In einem dreitägigen Jugend-Medien-Workshop der Deutschen Gesellschaft für die Vereinten Nationen sollen junge Menschen einerseits das Kreieren von „Social Videos“ sowie Grundlagen von Social Media und andererseits mehr über die Vereinten Nationen und um die fünf Themenschwerpunkte rund um den UN-Zukunftsgipfel lernen. \nAnmeldeschluss ist der 23. Juni 2024. \nAlle Informationen findest du hier. 
URL:https://www.ljr-nrw.de/termin/jugendpresse-einladung-zu-vlog-the-future-dem-jugend-medien-workshop-zum-un-zukunftsgipfel-2024/
LOCATION:Bonn
CATEGORIES:Termine
ATTACH;FMTTYPE=image/webp:https://www.ljr-nrw.de/wp-content/uploads/2018/11/termin-termine.webp
END:VEVENT
END:VCALENDAR