BEGIN:VCALENDAR
VERSION:2.0
PRODID:-//Landesjugendring NRW - ECPv6.15.20//NONSGML v1.0//EN
CALSCALE:GREGORIAN
METHOD:PUBLISH
X-WR-CALNAME:Landesjugendring NRW
X-ORIGINAL-URL:https://www.ljr-nrw.de
X-WR-CALDESC:Veranstaltungen für Landesjugendring NRW
REFRESH-INTERVAL;VALUE=DURATION:PT1H
X-Robots-Tag:noindex
X-PUBLISHED-TTL:PT1H
BEGIN:VTIMEZONE
TZID:Europe/Berlin
BEGIN:DAYLIGHT
TZOFFSETFROM:+0100
TZOFFSETTO:+0200
TZNAME:CEST
DTSTART:20230326T010000
END:DAYLIGHT
BEGIN:STANDARD
TZOFFSETFROM:+0200
TZOFFSETTO:+0100
TZNAME:CET
DTSTART:20231029T010000
END:STANDARD
BEGIN:DAYLIGHT
TZOFFSETFROM:+0100
TZOFFSETTO:+0200
TZNAME:CEST
DTSTART:20240331T010000
END:DAYLIGHT
BEGIN:STANDARD
TZOFFSETFROM:+0200
TZOFFSETTO:+0100
TZNAME:CET
DTSTART:20241027T010000
END:STANDARD
BEGIN:DAYLIGHT
TZOFFSETFROM:+0100
TZOFFSETTO:+0200
TZNAME:CEST
DTSTART:20250330T010000
END:DAYLIGHT
BEGIN:STANDARD
TZOFFSETFROM:+0200
TZOFFSETTO:+0100
TZNAME:CET
DTSTART:20251026T010000
END:STANDARD
END:VTIMEZONE
BEGIN:VEVENT
DTSTART;VALUE=DATE:20240603
DTEND;VALUE=DATE:20240607
DTSTAMP:20260420T054827
CREATED:20240424T134833Z
LAST-MODIFIED:20240424T134833Z
UID:431104-1717372800-1717718399@www.ljr-nrw.de
SUMMARY:Ökologisch.Demokratisch.Engagiert. – Gegen Rechtsextremismus
DESCRIPTION:In den letzten Jahren werden zunehmend Themen des Natur- und Umweltschutzes durch rechtsextreme und rechtspopulistische Akteure vereinnahmt. Der Förderverein Ökologische Freiwilligendienste e.V. lädt 30 junge Erwachsene zu einem 4-Tages-Seminar ein\, um aktuelle rechtsextreme Strategien zu durchleuchten und sich in verschiedenen Themen der politischen Bildung zu professionalisieren\, um so im täglichen Einsatz für Demokratie und Rechtsstaatlichkeit nicht sprachlos zu bleiben. \nAnmeldeschluss ist der 17. Mai 2024. \nWeitere Informationen hier
URL:https://www.ljr-nrw.de/termin/oekologisch-demokratisch-engagiert-gegen-rechtsextremismus/
LOCATION:Gedenkstätte IP Vogelsang\, Vogelsang 92\, Schleiden\, 53937
CATEGORIES:Termine
ATTACH;FMTTYPE=image/webp:https://www.ljr-nrw.de/wp-content/uploads/2018/11/termin-termine.webp
END:VEVENT
BEGIN:VEVENT
DTSTART;TZID=Europe/Berlin:20240613T140000
DTEND;TZID=Europe/Berlin:20240613T160000
DTSTAMP:20260420T054827
CREATED:20240507T104839Z
LAST-MODIFIED:20240507T104839Z
UID:431381-1718287200-1718294400@www.ljr-nrw.de
SUMMARY:Umgang mit rechtsextremen Parteien unter Jugendverbänden
DESCRIPTION:Im Rahmen der Veranstaltungsreihe: „Jugendverbände und Demokratie – Eine Frage der Haltung und der Notwendigkeit“ lädt der Bundesjugendring zu einer digitalen Veranstaltung zur Vorstellung der Ergebnisse der Umfrage zum Umgang mit rechtsextremen Parteien unter Jugendverbänden und –ringen ein. Zusammen mit Prof. Dr. Benno Hafeneger werden diese Ergebnisse anschließend gemeinsam diskutiert und interpretiert. \nDie Anmeldung ist bis zum 28. Mai 2024 hier möglich.
URL:https://www.ljr-nrw.de/termin/umgang-mit-rechtsextremen-parteien-unter-jugendverbaenden/
LOCATION:Online
CATEGORIES:Termine
ATTACH;FMTTYPE=image/webp:https://www.ljr-nrw.de/wp-content/uploads/2018/11/termin-termine.webp
END:VEVENT
END:VCALENDAR