BEGIN:VCALENDAR
VERSION:2.0
PRODID:-//Landesjugendring NRW - ECPv6.15.20//NONSGML v1.0//EN
CALSCALE:GREGORIAN
METHOD:PUBLISH
X-WR-CALNAME:Landesjugendring NRW
X-ORIGINAL-URL:https://www.ljr-nrw.de
X-WR-CALDESC:Veranstaltungen für Landesjugendring NRW
REFRESH-INTERVAL;VALUE=DURATION:PT1H
X-Robots-Tag:noindex
X-PUBLISHED-TTL:PT1H
BEGIN:VTIMEZONE
TZID:Europe/Berlin
BEGIN:DAYLIGHT
TZOFFSETFROM:+0100
TZOFFSETTO:+0200
TZNAME:CEST
DTSTART:20240331T010000
END:DAYLIGHT
BEGIN:STANDARD
TZOFFSETFROM:+0200
TZOFFSETTO:+0100
TZNAME:CET
DTSTART:20241027T010000
END:STANDARD
BEGIN:DAYLIGHT
TZOFFSETFROM:+0100
TZOFFSETTO:+0200
TZNAME:CEST
DTSTART:20250330T010000
END:DAYLIGHT
BEGIN:STANDARD
TZOFFSETFROM:+0200
TZOFFSETTO:+0100
TZNAME:CET
DTSTART:20251026T010000
END:STANDARD
BEGIN:DAYLIGHT
TZOFFSETFROM:+0100
TZOFFSETTO:+0200
TZNAME:CEST
DTSTART:20260329T010000
END:DAYLIGHT
BEGIN:STANDARD
TZOFFSETFROM:+0200
TZOFFSETTO:+0100
TZNAME:CET
DTSTART:20261025T010000
END:STANDARD
END:VTIMEZONE
BEGIN:VEVENT
DTSTART;TZID=Europe/Berlin:20251121T153000
DTEND;TZID=Europe/Berlin:20251121T193000
DTSTAMP:20260421T144910
CREATED:20251009T093520Z
LAST-MODIFIED:20251009T093555Z
UID:435676-1763739000-1763753400@www.ljr-nrw.de
SUMMARY:Netzwerk für Demokratie und Courage (NDC) – Vernetzungstreffen
DESCRIPTION:Vom Klassenzimmer bis zur Vorstandsetage: Wie Politik demokratische Strukturen und Diskriminierungsschutz stärken kann.\nNDC-Menschen aufgepasst – ob Ehemalige\, Supporter_innen\, aktuelle Teamer_innen oder Hauptamtliche: Am Freitag\, 21. November 2025 findet von 15:30 bis 19:30 Uhr in Berlin das diesjährige Vernetzungstreffen statt. Im Fokus stehen erfolgreiche Strategien in Schulen und Unternehmen\, die der Politik zeigen sollen\, welchen Diskriminierungsschutz es braucht und wie demokratische Strukturen vor Ort zu fördern sind. \nWer nicht dabei sein kann\, hat über die NDC-Ehemaligen-Gruppe auf LinkedIn die Möglichkeit\, sich zu vernetzen. Bei Interesse bitte eine E-Mail an dran-bleiben@netzwerk-courage.de schicken. \nAnmeldefrist: 15. Oktober 2025 \nWeitere Informationen hier
URL:https://www.ljr-nrw.de/termin/netzwerk-fuer-demokratie-und-courage-ndc-vernetzungstreffen/
LOCATION:Berlin
CATEGORIES:Termine
ATTACH;FMTTYPE=image/webp:https://www.ljr-nrw.de/wp-content/uploads/2018/11/NDC-e1691665154624.webp
END:VEVENT
END:VCALENDAR