BEGIN:VCALENDAR
VERSION:2.0
PRODID:-//Landesjugendring NRW - ECPv6.15.20//NONSGML v1.0//EN
CALSCALE:GREGORIAN
METHOD:PUBLISH
X-WR-CALNAME:Landesjugendring NRW
X-ORIGINAL-URL:https://www.ljr-nrw.de
X-WR-CALDESC:Veranstaltungen für Landesjugendring NRW
REFRESH-INTERVAL;VALUE=DURATION:PT1H
X-Robots-Tag:noindex
X-PUBLISHED-TTL:PT1H
BEGIN:VTIMEZONE
TZID:Europe/Berlin
BEGIN:DAYLIGHT
TZOFFSETFROM:+0100
TZOFFSETTO:+0200
TZNAME:CEST
DTSTART:20240331T010000
END:DAYLIGHT
BEGIN:STANDARD
TZOFFSETFROM:+0200
TZOFFSETTO:+0100
TZNAME:CET
DTSTART:20241027T010000
END:STANDARD
BEGIN:DAYLIGHT
TZOFFSETFROM:+0100
TZOFFSETTO:+0200
TZNAME:CEST
DTSTART:20250330T010000
END:DAYLIGHT
BEGIN:STANDARD
TZOFFSETFROM:+0200
TZOFFSETTO:+0100
TZNAME:CET
DTSTART:20251026T010000
END:STANDARD
BEGIN:DAYLIGHT
TZOFFSETFROM:+0100
TZOFFSETTO:+0200
TZNAME:CEST
DTSTART:20260329T010000
END:DAYLIGHT
BEGIN:STANDARD
TZOFFSETFROM:+0200
TZOFFSETTO:+0100
TZNAME:CET
DTSTART:20261025T010000
END:STANDARD
END:VTIMEZONE
BEGIN:VEVENT
DTSTART;TZID=Europe/Berlin:20250904T103000
DTEND;TZID=Europe/Berlin:20250904T120000
DTSTAMP:20260421T180444
CREATED:20250708T105240Z
LAST-MODIFIED:20250708T105617Z
UID:435037-1756981800-1756987200@www.ljr-nrw.de
SUMMARY:Gadjé-Rassismus und Co.
DESCRIPTION:Rassismus gegen Romnja und Sintizze wirkt tief in Strukturen und Alltag hinein\, mit weitreichenden Folgen für Gesundheit Teilhabe und Anerkennung. Das Webseminar der FUMA Fachstelle Gender beleuchtet die Komplexität von Gadjé-Rassismus und regt zur reflexiven Auseinandersetzung in der pädagogischen und sozialarbeiterischen Praxis an. \nAnmeldeschluss ist der 2. September 2025\, 12:00 Uhr. \nWeitere Informationen hier \n  \n 
URL:https://www.ljr-nrw.de/termin/gadje-rassismus-und-co/
LOCATION:Online
CATEGORIES:Termine
ATTACH;FMTTYPE=image/webp:https://www.ljr-nrw.de/wp-content/uploads/2018/11/termin-termine.webp
END:VEVENT
BEGIN:VEVENT
DTSTART;VALUE=DATE:20250914
DTEND;VALUE=DATE:20250920
DTSTAMP:20260421T180444
CREATED:20250708T103010Z
LAST-MODIFIED:20250708T103154Z
UID:435033-1757808000-1758326399@www.ljr-nrw.de
SUMMARY:PolitAkademie 2025
DESCRIPTION:Im Programm der Jugendbildungsreise nach Berlin: „Rechtsruck – Auswirkungen auf Asyl- und Migrationspolitiken“\, veranstaltet durch den DE-ZENTRALE e.V.\, sind Gespräche mit Bundestagsabgeordneten\, Medienvertreter_innen und zivilgesellschaftlichen Akteur_innen sowie eine politische Stadtführung zur Flucht- und Migrationsgeschichte Berlins. \nTeilnehmen können 16- bis 26-Jährige\, Vorkenntnisse sind nicht erforderlich. \nAnmeldeschluss ist der 1. August 2025. \nWeitere Infos und Anmeldung hier
URL:https://www.ljr-nrw.de/termin/politakademie-2025/
LOCATION:Berlin
CATEGORIES:Termine
ATTACH;FMTTYPE=image/webp:https://www.ljr-nrw.de/wp-content/uploads/2018/11/termin-termine.webp
END:VEVENT
END:VCALENDAR