BEGIN:VCALENDAR
VERSION:2.0
PRODID:-//Landesjugendring NRW - ECPv6.15.20//NONSGML v1.0//EN
CALSCALE:GREGORIAN
METHOD:PUBLISH
X-ORIGINAL-URL:https://www.ljr-nrw.de
X-WR-CALDESC:Veranstaltungen für Landesjugendring NRW
REFRESH-INTERVAL;VALUE=DURATION:PT1H
X-Robots-Tag:noindex
X-PUBLISHED-TTL:PT1H
BEGIN:VTIMEZONE
TZID:Europe/Berlin
BEGIN:DAYLIGHT
TZOFFSETFROM:+0100
TZOFFSETTO:+0200
TZNAME:CEST
DTSTART:20230326T010000
END:DAYLIGHT
BEGIN:STANDARD
TZOFFSETFROM:+0200
TZOFFSETTO:+0100
TZNAME:CET
DTSTART:20231029T010000
END:STANDARD
BEGIN:DAYLIGHT
TZOFFSETFROM:+0100
TZOFFSETTO:+0200
TZNAME:CEST
DTSTART:20240331T010000
END:DAYLIGHT
BEGIN:STANDARD
TZOFFSETFROM:+0200
TZOFFSETTO:+0100
TZNAME:CET
DTSTART:20241027T010000
END:STANDARD
BEGIN:DAYLIGHT
TZOFFSETFROM:+0100
TZOFFSETTO:+0200
TZNAME:CEST
DTSTART:20250330T010000
END:DAYLIGHT
BEGIN:STANDARD
TZOFFSETFROM:+0200
TZOFFSETTO:+0100
TZNAME:CET
DTSTART:20251026T010000
END:STANDARD
END:VTIMEZONE
BEGIN:VEVENT
DTSTART;TZID=Europe/Berlin:20240924T093000
DTEND;TZID=Europe/Berlin:20240925T123000
DTSTAMP:20260421T134119
CREATED:20240620T112109Z
LAST-MODIFIED:20240620T113005Z
UID:428273-1727170200-1727267400@www.ljr-nrw.de
SUMMARY:Einführung in die Dialogische Haltung
DESCRIPTION:Die LVR-Koordinationsstelle Kinderarmut lädt zur digitalen Veranstaltung „Einführung in die Dialogische Haltung“ ein.\nRespekt vor der Individualität der Menschen und deren unterschiedlichen Lebensentwürfen macht eine Begegnung auf Augenhöhe möglich. Damit unterstützt und erweitert die Dialogische Haltung unseren diversitätssensiblen Gesamtblick – eine wichtige Kompetenz gerade auch für Fachkräfte\, die in armutspräventiven Praxisfeldern und Angeboten tätig sind. Die Reflexion der eigenen professionellen Haltung wird methodisch in dem zweitägigen Seminar im Fokus stehen.\nDas Seminar besteht aus zwei Seminareinheiten und findet an beiden Tagen jeweils in der Zeit von 9:30 Uhr (ab 9:15 Uhr Technik-Check) bis 12:30 Uhr als Zoom-Meeting statt. Der Teilnahmebeitrag beträgt 48 Euro für beide Seminareinheiten. \nAnmeldeschluss ist der 27. August 2024. \nWeitere Informationen hier 
URL:https://www.ljr-nrw.de/termin/einfuehrung-in-die-dialogische-haltung/
LOCATION:Online
CATEGORIES:Termine
ATTACH;FMTTYPE=image/webp:https://www.ljr-nrw.de/wp-content/uploads/2018/11/termin-termine.webp
END:VEVENT
BEGIN:VEVENT
DTSTART;VALUE=DATE:20240930
DTEND;VALUE=DATE:20241001
DTSTAMP:20260421T134119
CREATED:20240903T150031Z
LAST-MODIFIED:20240904T130434Z
UID:433230-1727654400-1727740799@www.ljr-nrw.de
SUMMARY:Förderfonds des Deutschen Kinderhilfswerkes
DESCRIPTION:Für Initiativen\, Vereine und Projekte der Kinder- und Jugendarbeit aus dem gesamten Bundesgebiet besteht die Möglichkeit\, Anträge für die vier Themenfonds des Deutschen Kinderhilfswerkes zu stellen. Ziel der Themenfonds ist die Bekanntmachung der Kinderrechte und die Verbesserung der Lebenswelt von Kindern und Jugendlichen unter dem Aspekt der Mitbestimmung. Anträge können Vereine\, freie Träger\, Initiativen\, Elterngruppen\, Kinder- und Jugendgruppen sowie Schülerinitiativen für noch nicht begonnene Projekte stellen. \nMit den Themenfonds „Kinderpolitik“\, „Kinderkultur“\, „Medienkompetenz“ und „Spielraum“ fördert das Deutsche Kinderhilfswerk mit bis zu 10.000 Euro Projekte\, die das demokratische und politische Engagement von Kindern und Jugendlichen unterstützen\, deren Mitbestimmung an Prozessen in Jugendeinrichtungen\, Schule und Stadtteil ermöglichen\, den Zugang zu Medien verbessern bzw. den kompetenten Umgang mit diesen befördern\, oder Kinder und Jugendliche bei der kreativen Auseinandersetzung mit für sie relevanten Themen fördern. \nFerner sollen Projekte Unterstützung erhalten\, die bewegungsfördernde und interessante Spiel- und Bewegungsorte im Wohnumfeld oder auf dem Gelände von Vereinen oder Bildungseinrichtungen schaffen oder der Vernetzung\, Sicherung bzw. Rückgewinnung von Spiel-\, Sport- und Aufenthaltsmöglichkeiten dienen. \nVoraussetzung für eine Bewilligung ist auch hier\, dass die Kinder und Jugendlichen an der Planung und Durchführung des Projektes aktiv beteiligt werden. \nAnträge können noch bis zum 30. September 2024 gestellt werden. \nWeitere Informationen hier
URL:https://www.ljr-nrw.de/termin/foerderfonds-des-deutschen-kinderhilfswerkes/
CATEGORIES:Ausschreibungen/ Wettbewerbe
ATTACH;FMTTYPE=image/webp:https://www.ljr-nrw.de/wp-content/uploads/2018/11/termin-presse.webp
END:VEVENT
END:VCALENDAR