BEGIN:VCALENDAR
VERSION:2.0
PRODID:-//Landesjugendring NRW - ECPv6.15.20//NONSGML v1.0//EN
CALSCALE:GREGORIAN
METHOD:PUBLISH
X-WR-CALNAME:Landesjugendring NRW
X-ORIGINAL-URL:https://www.ljr-nrw.de
X-WR-CALDESC:Veranstaltungen für Landesjugendring NRW
REFRESH-INTERVAL;VALUE=DURATION:PT1H
X-Robots-Tag:noindex
X-PUBLISHED-TTL:PT1H
BEGIN:VTIMEZONE
TZID:Europe/Berlin
BEGIN:DAYLIGHT
TZOFFSETFROM:+0100
TZOFFSETTO:+0200
TZNAME:CEST
DTSTART:20240331T010000
END:DAYLIGHT
BEGIN:STANDARD
TZOFFSETFROM:+0200
TZOFFSETTO:+0100
TZNAME:CET
DTSTART:20241027T010000
END:STANDARD
BEGIN:DAYLIGHT
TZOFFSETFROM:+0100
TZOFFSETTO:+0200
TZNAME:CEST
DTSTART:20250330T010000
END:DAYLIGHT
BEGIN:STANDARD
TZOFFSETFROM:+0200
TZOFFSETTO:+0100
TZNAME:CET
DTSTART:20251026T010000
END:STANDARD
BEGIN:DAYLIGHT
TZOFFSETFROM:+0100
TZOFFSETTO:+0200
TZNAME:CEST
DTSTART:20260329T010000
END:DAYLIGHT
BEGIN:STANDARD
TZOFFSETFROM:+0200
TZOFFSETTO:+0100
TZNAME:CET
DTSTART:20261025T010000
END:STANDARD
END:VTIMEZONE
BEGIN:VEVENT
DTSTART;TZID=Europe/Berlin:20250702T180000
DTEND;TZID=Europe/Berlin:20250702T190000
DTSTAMP:20260419T151019
CREATED:20250513T121708Z
LAST-MODIFIED:20250611T061429Z
UID:434700-1751479200-1751482800@www.ljr-nrw.de
SUMMARY:Infotermin zur U16-Wahl
DESCRIPTION:Du willst bei der U16-Wahl 2025 ein Wahllokal anbieten? Oder bist du noch unsicher\, wie genau das funktioniert?\nDann komm zu einem der Infotermine von der LAG Kommunale Jugendringe und dem Landesjugendring NRW und erfahre alles Wichtige – kompakt\, online und kostenlos! \nDu erfährst: \n\nwie du ein Wahllokal anmeldest\nwer mitmachen darf\nwie ihr politische Bildung drumherum gestalten könnt\nwelches kostenlose Material der Landesjugendring NRW euch zur Verfügung stellt\n\n  \n📅 Alle Termine auf einen Blick: \n28. Mai 2025\, 15:00 Uhr \n4. Juni 2025\, 13:00 Uhr \n4. Juni 2025\, 18:00 Uhr \n18. Juni 2025\, 18:00 Uhr \n           2. Juli 2025\, 18:00 Uhr \nDie Termine dauern je 60 Minuten und finden digital via Zoom statt. Es ist ausreichend\, an einem der Termine teilzunehmen. \nWeitere Informationen hier
URL:https://www.ljr-nrw.de/termin/infotermin-zur-u16-wahl/
LOCATION:Online
CATEGORIES:Termine
ATTACH;FMTTYPE=image/webp:https://www.ljr-nrw.de/wp-content/uploads/2022/08/ljr_themenbild_kommunale-jugendpolitik.webp
END:VEVENT
END:VCALENDAR