BEGIN:VCALENDAR
VERSION:2.0
PRODID:-//Landesjugendring NRW - ECPv6.15.20//NONSGML v1.0//EN
CALSCALE:GREGORIAN
METHOD:PUBLISH
X-ORIGINAL-URL:https://www.ljr-nrw.de
X-WR-CALDESC:Veranstaltungen für Landesjugendring NRW
REFRESH-INTERVAL;VALUE=DURATION:PT1H
X-Robots-Tag:noindex
X-PUBLISHED-TTL:PT1H
BEGIN:VTIMEZONE
TZID:Europe/Berlin
BEGIN:DAYLIGHT
TZOFFSETFROM:+0100
TZOFFSETTO:+0200
TZNAME:CEST
DTSTART:20230326T010000
END:DAYLIGHT
BEGIN:STANDARD
TZOFFSETFROM:+0200
TZOFFSETTO:+0100
TZNAME:CET
DTSTART:20231029T010000
END:STANDARD
BEGIN:DAYLIGHT
TZOFFSETFROM:+0100
TZOFFSETTO:+0200
TZNAME:CEST
DTSTART:20240331T010000
END:DAYLIGHT
BEGIN:STANDARD
TZOFFSETFROM:+0200
TZOFFSETTO:+0100
TZNAME:CET
DTSTART:20241027T010000
END:STANDARD
BEGIN:DAYLIGHT
TZOFFSETFROM:+0100
TZOFFSETTO:+0200
TZNAME:CEST
DTSTART:20250330T010000
END:DAYLIGHT
BEGIN:STANDARD
TZOFFSETFROM:+0200
TZOFFSETTO:+0100
TZNAME:CET
DTSTART:20251026T010000
END:STANDARD
END:VTIMEZONE
BEGIN:VEVENT
DTSTART;TZID=Europe/Berlin:20241205T150000
DTEND;TZID=Europe/Berlin:20241205T170000
DTSTAMP:20260420T015208
CREATED:20241113T103802Z
LAST-MODIFIED:20241113T103802Z
UID:433550-1733410800-1733418000@www.ljr-nrw.de
SUMMARY:Jugendpartizipationsprojekte (Erasmus+) – Infoveranstaltung
DESCRIPTION:JUGEND für Europa lädt zu einer Online-Informationsveranstaltung zum Erasmus+-Förderformat Jugendpartizipationsprojekte ein. Mit dem Förderformat werden Projekte unterstützt\, die die aktive Beteiligung junger Menschen am demokratischen Leben in Europa fördern. Die Projekte können auf lokaler\, regionaler\, nationaler oder transnationaler Ebene angelegt sein.\nDie Veranstaltung informiert umfassend über die Förderrichtlinien 2025 und zeigt Praxisbeispiele zur Umsetzung. Mit Blick auf die Bundestagswahl 2025 gibt sie außerdem Anregungen\, wie sich das Förderformat mit Wahlen verknüpfen lässt. \nAnmeldeschluss ist der 4. Dezember 2025. \nWeitere Informationen und Anmeldung hier
URL:https://www.ljr-nrw.de/termin/jugendpartizipationsprojekte-erasmus-infoveranstaltung/
LOCATION:Online
CATEGORIES:Termine
ATTACH;FMTTYPE=image/webp:https://www.ljr-nrw.de/wp-content/uploads/2018/11/termin-termine.webp
END:VEVENT
END:VCALENDAR