BEGIN:VCALENDAR
VERSION:2.0
PRODID:-//Landesjugendring NRW - ECPv6.15.20//NONSGML v1.0//EN
CALSCALE:GREGORIAN
METHOD:PUBLISH
X-WR-CALNAME:Landesjugendring NRW
X-ORIGINAL-URL:https://www.ljr-nrw.de
X-WR-CALDESC:Veranstaltungen für Landesjugendring NRW
REFRESH-INTERVAL;VALUE=DURATION:PT1H
X-Robots-Tag:noindex
X-PUBLISHED-TTL:PT1H
BEGIN:VTIMEZONE
TZID:Europe/Berlin
BEGIN:DAYLIGHT
TZOFFSETFROM:+0100
TZOFFSETTO:+0200
TZNAME:CEST
DTSTART:20230326T010000
END:DAYLIGHT
BEGIN:STANDARD
TZOFFSETFROM:+0200
TZOFFSETTO:+0100
TZNAME:CET
DTSTART:20231029T010000
END:STANDARD
BEGIN:DAYLIGHT
TZOFFSETFROM:+0100
TZOFFSETTO:+0200
TZNAME:CEST
DTSTART:20240331T010000
END:DAYLIGHT
BEGIN:STANDARD
TZOFFSETFROM:+0200
TZOFFSETTO:+0100
TZNAME:CET
DTSTART:20241027T010000
END:STANDARD
BEGIN:DAYLIGHT
TZOFFSETFROM:+0100
TZOFFSETTO:+0200
TZNAME:CEST
DTSTART:20250330T010000
END:DAYLIGHT
BEGIN:STANDARD
TZOFFSETFROM:+0200
TZOFFSETTO:+0100
TZNAME:CET
DTSTART:20251026T010000
END:STANDARD
END:VTIMEZONE
BEGIN:VEVENT
DTSTART;VALUE=DATE:20241111
DTEND;VALUE=DATE:20241112
DTSTAMP:20260420T032131
CREATED:20241031T105306Z
LAST-MODIFIED:20241031T105306Z
UID:433518-1731283200-1731369599@www.ljr-nrw.de
SUMMARY:DBJR sucht Sachbearbeiter_in
DESCRIPTION:Der Deutsche Bundesjugendring sucht eine_n Sachbearbeiter_in für das Referat europäische und internationale Jugendpolitik. Die Stelle umfasst 100 % der betrieblichen Arbeitszeit und beinhaltet die organisatorische Unterstützung von Fachveranstaltungen\, Delegationsprogrammen sowie die Pflege internationaler Kontakte. \nBewerbungsschluss ist der 11. November 2024.  \nWeitere Informationen hier
URL:https://www.ljr-nrw.de/termin/dbjr-sucht-sachbearbeiter_in/
CATEGORIES:Jobs
ATTACH;FMTTYPE=image/webp:https://www.ljr-nrw.de/wp-content/uploads/2018/11/termin-jobs.webp
END:VEVENT
BEGIN:VEVENT
DTSTART;TZID=Europe/Berlin:20241113T103000
DTEND;TZID=Europe/Berlin:20241113T130000
DTSTAMP:20260420T032131
CREATED:20241009T081645Z
LAST-MODIFIED:20241009T082028Z
UID:433435-1731493800-1731502800@www.ljr-nrw.de
SUMMARY:Kundgebung: NRW bleib sozial!
DESCRIPTION:Die NRW-Landesregierung plant für 2025 Kürzungen von 83 Millionen Euro bei sozialen Diensten und Angeboten. Diese Einsparungen haben gravierende Auswirkungen. Unterstützungsangebote für zahlreiche Gruppen werden zurückgefahren und die Belastung für Mitarbeitende im sozialen Sektor wird weiter steigen. \nUm dies zu verhindern\, ruft die Freie Wohlfahrtspflege NRW für den 13. November 2024 zu einer großen Demonstration in Düsseldorf auf. Mach mit und gehe mit uns auf die Straße – damit NRW sozial bleibt! \nAnmeldeschluss ist der 6. November 2024. \nZeitplan und Anmeldemöglichkeit zur Demo gibt es hier.
URL:https://www.ljr-nrw.de/termin/kundgebung-nrw-bleib-sozial/
LOCATION:Düsseldorf
CATEGORIES:Termine
ATTACH;FMTTYPE=image/webp:https://www.ljr-nrw.de/wp-content/uploads/2018/11/termin-termine.webp
END:VEVENT
BEGIN:VEVENT
DTSTART;VALUE=DATE:20241117
DTEND;VALUE=DATE:20241118
DTSTAMP:20260420T032131
CREATED:20241031T115536Z
LAST-MODIFIED:20241031T115536Z
UID:433520-1731801600-1731887999@www.ljr-nrw.de
SUMMARY:Aktionsplan gegen Einsamkeit des Landes NRW
DESCRIPTION:Einsamkeit betrifft viele Menschen – auch in jungen Altersgruppen.\nDie Landesregierung NRW erarbeitet aktuell einen Aktionsplan gegen Einsamkeit und lädt alle Bürger_innen ein\, sich aktiv daran zu beteiligen. \nBis zum 17. November 2024 können Ideen für den Aktionsplan eingereicht werden – von kurzen Kommentaren bis zu konkreten Vorschlägen.  \nWeitere Infos und die Möglichkeit\, die eigenen Ideen einzubringen\, gibt’s hier
URL:https://www.ljr-nrw.de/termin/aktionsplan-gegen-einsamkeit-des-landes-nrw/
CATEGORIES:Ausschreibungen/ Wettbewerbe
ATTACH;FMTTYPE=image/webp:https://www.ljr-nrw.de/wp-content/uploads/2018/11/termin-presse.webp
END:VEVENT
BEGIN:VEVENT
DTSTART;TZID=Europe/Berlin:20241121T100000
DTEND;TZID=Europe/Berlin:20241121T160000
DTSTAMP:20260420T032131
CREATED:20241030T141851Z
LAST-MODIFIED:20241030T141851Z
UID:433499-1732183200-1732204800@www.ljr-nrw.de
SUMMARY:Die Wissenschaft hat festgestellt …
DESCRIPTION:Das Amt für Jugendarbeit der Evangelischen Kirche im Rheinland veranstaltet einen Fachtag zum kritisch-kompetenten Umgang mit (Jugend)Studien. Thematisiert werden unter anderem die Sinus-Jugendstudie\, die Shell-Jugendstudie und die Trendstudie „Jugend in Deutschland“. Darüber hinaus wird ein Blick auf die aktuelle Kirchenmitgliedschaftsuntersuchung geworfen. \nAnmeldeschluss ist der 20. November 2024. \nWeitere Informationen und Anmeldung hier
URL:https://www.ljr-nrw.de/termin/die-wissenschaft-hat-festgestellt/
LOCATION:Solingen
CATEGORIES:Termine
ATTACH;FMTTYPE=image/webp:https://www.ljr-nrw.de/wp-content/uploads/2018/11/termin-termine.webp
END:VEVENT
END:VCALENDAR