BEGIN:VCALENDAR
VERSION:2.0
PRODID:-//Landesjugendring NRW - ECPv6.15.20//NONSGML v1.0//EN
CALSCALE:GREGORIAN
METHOD:PUBLISH
X-ORIGINAL-URL:https://www.ljr-nrw.de
X-WR-CALDESC:Veranstaltungen für Landesjugendring NRW
REFRESH-INTERVAL;VALUE=DURATION:PT1H
X-Robots-Tag:noindex
X-PUBLISHED-TTL:PT1H
BEGIN:VTIMEZONE
TZID:Europe/Berlin
BEGIN:DAYLIGHT
TZOFFSETFROM:+0100
TZOFFSETTO:+0200
TZNAME:CEST
DTSTART:20230326T010000
END:DAYLIGHT
BEGIN:STANDARD
TZOFFSETFROM:+0200
TZOFFSETTO:+0100
TZNAME:CET
DTSTART:20231029T010000
END:STANDARD
BEGIN:DAYLIGHT
TZOFFSETFROM:+0100
TZOFFSETTO:+0200
TZNAME:CEST
DTSTART:20240331T010000
END:DAYLIGHT
BEGIN:STANDARD
TZOFFSETFROM:+0200
TZOFFSETTO:+0100
TZNAME:CET
DTSTART:20241027T010000
END:STANDARD
BEGIN:DAYLIGHT
TZOFFSETFROM:+0100
TZOFFSETTO:+0200
TZNAME:CEST
DTSTART:20250330T010000
END:DAYLIGHT
BEGIN:STANDARD
TZOFFSETFROM:+0200
TZOFFSETTO:+0100
TZNAME:CET
DTSTART:20251026T010000
END:STANDARD
END:VTIMEZONE
BEGIN:VEVENT
DTSTART;VALUE=DATE:20241001
DTEND;VALUE=DATE:20241002
DTSTAMP:20260420T045843
CREATED:20230712T130053Z
LAST-MODIFIED:20231220T080944Z
UID:426329-1727740800-1727827199@www.ljr-nrw.de
SUMMARY:Mikroförderprogramm für strukturschwache und ländliche Räume
DESCRIPTION:Die Deutsche Stiftung für Ehrenamt und Engagement (DSEE) unterstützt ehrenamtlich getragene Organisationen in strukturschwachen und ländlichen Regionen dabei\, ehrenamtlichen Nachwuchs zu gewinnen. Mit bis zu 2.500 € sollen die Strukturen für Engagement gestärkt werden. Förderfähig sind etwa die Workshop-Moderationen\, eine neue Webseite oder Snacks bei einer Aktion. \nBewerbungen sind fortlaufend hier möglich.
URL:https://www.ljr-nrw.de/termin/deutsche-stiftung-fuer-ehrenamt-und-engagement-mikrofoerderprogramm-fuer-strukturschwache-und-laendliche-raeume/
CATEGORIES:Ausschreibungen/ Wettbewerbe
ATTACH;FMTTYPE=image/webp:https://www.ljr-nrw.de/wp-content/uploads/2018/11/termin-presse.webp
END:VEVENT
BEGIN:VEVENT
DTSTART;VALUE=DATE:20241009
DTEND;VALUE=DATE:20241010
DTSTAMP:20260420T045843
CREATED:20240925T095746Z
LAST-MODIFIED:20240925T095746Z
UID:433372-1728432000-1728518399@www.ljr-nrw.de
SUMMARY:DBJR sucht Sachbearbeiter_in im Referat für europäische und internationale Jugendpolitik
DESCRIPTION:Der Deutsche Bundesjugendring sucht idealerweise zum 1. November 2024 eine_n Sachbearbeiter_in für das Referat europäische und internationale Jugendpolitik. Die Stelle umfasst 100% der betrieblichen Arbeitszeit und beinhaltet die organisatorische Unterstützung von Fachveranstaltungen\, Delegationsprogrammen sowie die Pflege internationaler Kontakte. \nBewerbungsschluss ist der 9. Oktober 2024.  \nWeitere Informationen finden sich hier.
URL:https://www.ljr-nrw.de/termin/dbjr-sucht-sachbearbeiter_in-im-referat-fuer-europaeische-und-internationale-jugendpolitik/
CATEGORIES:Jobs
ATTACH;FMTTYPE=image/webp:https://www.ljr-nrw.de/wp-content/uploads/2018/11/termin-jobs.webp
END:VEVENT
BEGIN:VEVENT
DTSTART;TZID=Europe/Berlin:20241028T100000
DTEND;TZID=Europe/Berlin:20241028T203000
DTSTAMP:20260420T045843
CREATED:20240821T064427Z
LAST-MODIFIED:20240821T064427Z
UID:433136-1730109600-1730147400@www.ljr-nrw.de
SUMMARY:European Youth Work Symposium 2024
DESCRIPTION:Junge Menschen stehen in einer unsicheren politischen Landschaft vor großen Herausforderungen. Jugendarbeit ist wichtiger denn je\, aber auch sie kämpft mit knappen Budgets und fehlenden Strukturen.\nDas European Youth Work Symposium 2024 bietet eine Plattform für den Austausch zwischen Jugendlichen\, Fachkräften und Vertreter_innen aus Politik\, Verwaltung und Wissenschaft\, um gemeinsam Lösungen für die aktuellen Probleme der Jugendarbeit zu entwickeln. \nDas Symposium wird veranstaltet vom Internationalen Bildungs- und Begegnungswerk (IBB). \nWeitere Informationen und Anmeldung hier
URL:https://www.ljr-nrw.de/termin/european-youth-work-symposium-2024/
LOCATION:Dortmunder U
CATEGORIES:Termine
ATTACH;FMTTYPE=image/webp:https://www.ljr-nrw.de/wp-content/uploads/2018/11/termin-termine.webp
END:VEVENT
END:VCALENDAR