BEGIN:VCALENDAR
VERSION:2.0
PRODID:-//Landesjugendring NRW - ECPv6.15.20//NONSGML v1.0//EN
CALSCALE:GREGORIAN
METHOD:PUBLISH
X-WR-CALNAME:Landesjugendring NRW
X-ORIGINAL-URL:https://www.ljr-nrw.de
X-WR-CALDESC:Veranstaltungen für Landesjugendring NRW
REFRESH-INTERVAL;VALUE=DURATION:PT1H
X-Robots-Tag:noindex
X-PUBLISHED-TTL:PT1H
BEGIN:VTIMEZONE
TZID:Europe/Berlin
BEGIN:DAYLIGHT
TZOFFSETFROM:+0100
TZOFFSETTO:+0200
TZNAME:CEST
DTSTART:20230326T010000
END:DAYLIGHT
BEGIN:STANDARD
TZOFFSETFROM:+0200
TZOFFSETTO:+0100
TZNAME:CET
DTSTART:20231029T010000
END:STANDARD
BEGIN:DAYLIGHT
TZOFFSETFROM:+0100
TZOFFSETTO:+0200
TZNAME:CEST
DTSTART:20240331T010000
END:DAYLIGHT
BEGIN:STANDARD
TZOFFSETFROM:+0200
TZOFFSETTO:+0100
TZNAME:CET
DTSTART:20241027T010000
END:STANDARD
BEGIN:DAYLIGHT
TZOFFSETFROM:+0100
TZOFFSETTO:+0200
TZNAME:CEST
DTSTART:20250330T010000
END:DAYLIGHT
BEGIN:STANDARD
TZOFFSETFROM:+0200
TZOFFSETTO:+0100
TZNAME:CET
DTSTART:20251026T010000
END:STANDARD
END:VTIMEZONE
BEGIN:VEVENT
DTSTART;TZID=Europe/Berlin:20240905T170000
DTEND;TZID=Europe/Berlin:20240905T170000
DTSTAMP:20260420T063203
CREATED:20240821T063056Z
LAST-MODIFIED:20240821T123341Z
UID:433134-1725555600-1725555600@www.ljr-nrw.de
SUMMARY:Deine Idee für das Rheinische Revier
DESCRIPTION:JoinPolitics und die Metropolregion Rheinland veranstalten einen Workshop\, bei dem junge Menschen ihre politischen Ideen für die Strukturwandelregion Rheinisches Revier entwickeln und schärfen können. Ziel des Workshops ist es\, junge Menschen aus der Region in ihrem politischen Engagement zu stärken. \nWeitere Informationen und Anmeldung hier
URL:https://www.ljr-nrw.de/termin/deine-idee-fuer-das-rheinische-revier/
LOCATION:Köln
CATEGORIES:Termine
ATTACH;FMTTYPE=image/webp:https://www.ljr-nrw.de/wp-content/uploads/2018/11/termin-termine.webp
END:VEVENT
BEGIN:VEVENT
DTSTART;VALUE=DATE:20240908
DTEND;VALUE=DATE:20240914
DTSTAMP:20260420T063203
CREATED:20240703T121456Z
LAST-MODIFIED:20240703T121519Z
UID:432865-1725753600-1726271999@www.ljr-nrw.de
SUMMARY:Democracy in Danger – politischer Extremismus in der Vergangenheit\, Gegenwart und Zukunft?
DESCRIPTION:Wie entsteht politischer Extremismus? Was können wir gegen ihn tun? Und was wird bereits getan? Diese Fragen beschäftigen alle von uns besonders nach den letzten Wahlen! Bei der PolitAkademie 2024 der DE-ZENTRALE e.V. sollen die Teilnehmenden Antworten darauf finden. Ziel ist es dabei auch\, jungen Menschen das politische Handeln näher zu bringen und Politik für sie greifbar zu machen. \nInteressiert an politischer Bildung und Engagement? Diskutiert mit namhaften Politiker_innen wie Lamya Kaddor\, Hakan Demir und Linda Teuteberg sowie Expert_innen aus Wissenschaft und Journalismus über das Thema. \nDie Anmeldung ist bis zum 11. August 2024 möglich. \nWeitere Informationen hier
URL:https://www.ljr-nrw.de/termin/democracy-in-danger-politischer-extremismus-in-der-vergangenheit-gegenwart-und-zukunft/
LOCATION:Berlin
CATEGORIES:Termine
ATTACH;FMTTYPE=image/webp:https://www.ljr-nrw.de/wp-content/uploads/2018/11/termin-termine.webp
END:VEVENT
BEGIN:VEVENT
DTSTART;VALUE=DATE:20240916
DTEND;VALUE=DATE:20240919
DTSTAMP:20260420T063203
CREATED:20231220T072635Z
LAST-MODIFIED:20240829T102745Z
UID:428228-1726444800-1726703999@www.ljr-nrw.de
SUMMARY:4. Bundeskongress Kinder- und Jugendarbeit
DESCRIPTION:Der 4. Bundeskongress Kinder- und Jugendarbeit findet vom 16. bis zum 18. September 2024 in Potsdam statt. Der Kongress dient dem gemeinsamen Austausch von Interessierten aus Wissenschaft\, Fachpraxis\, Verbänden\, Verwaltung und Politik. \nDer Anmeldeschluss ist abgelaufen. \nDas Programm für den Bundeskongress ist hier einsehbar. \nWeitere Informationen hier
URL:https://www.ljr-nrw.de/termin/4-bundeskongress-kinder-und-jugendarbeit/
LOCATION:Potsdam
CATEGORIES:Termine
ATTACH;FMTTYPE=image/webp:https://www.ljr-nrw.de/wp-content/uploads/2018/11/termin-termine.webp
END:VEVENT
BEGIN:VEVENT
DTSTART;TZID=Europe/Berlin:20240917T180000
DTEND;TZID=Europe/Berlin:20240917T200000
DTSTAMP:20260420T063203
CREATED:20240904T072652Z
LAST-MODIFIED:20240904T130816Z
UID:433250-1726596000-1726603200@www.ljr-nrw.de
SUMMARY:Podiumsdiskussion „Straßenraum gemeinsam nutzen“
DESCRIPTION:Die Europäische Mobilitätswoche bietet Städten und Kommunen die Möglichkeit\, ihren Fortschritt in Sachen Mobilitätswende zu präsentieren. Das Bündnis Sozialverträgliche Mobilitätswende NRW möchte die Landesebene in den Blick nehmen. Der Verkehrsraum ist aktuell nicht gerecht verteilt. In vielen Städten dominiert das Auto. Dies behindert nicht nur eine Mobilitätswende\, sondern schließt viele Menschen von einer gleichberechtigten Mobilität aus und schadet zudem der Gesundheit. \nWelche Schritte müssen wir unternehmen\, um den Straßenraum gleichberechtigt und zukunftsfähig zu gestalten? Welche Pläne verfolgt die Landesregierung? Welche Hindernisse treten bei der Umsetzung einer gerechteren Straßenraumverteilung auf? \nAuf der Podiumsdiskussion wird gemeinsam über Lösungen diskutiert. \nAnmeldung und Programm hier
URL:https://www.ljr-nrw.de/termin/podiumsdiskussion-strassenraum-gemeinsam-nutzen/
LOCATION:Haus der Universität Düsseldorf\, Schadowplatz 14\, Düsseldorf\, 40212\, Deutschland
CATEGORIES:Termine
ATTACH;FMTTYPE=image/webp:https://www.ljr-nrw.de/wp-content/uploads/2018/11/termin-termine.webp
END:VEVENT
BEGIN:VEVENT
DTSTART;VALUE=DATE:20240918
DTEND;VALUE=DATE:20240919
DTSTAMP:20260420T063203
CREATED:20240903T150603Z
LAST-MODIFIED:20240906T043759Z
UID:433234-1726617600-1726703999@www.ljr-nrw.de
SUMMARY:Jugendring Düsseldorf sucht Jugendbildungsreferent_in
DESCRIPTION:Der Jugendring Düsseldorf sucht zum 1. Januar 2025 eine_n Jugendbildungsreferent_in für die Fachstelle demokratische Jugendbildung (Elternzeitvertretung) in Vollzeit. Kern der Fachstelle ist die außerschulische\, historisch-politische Jugendbildung.\nDie Stelle ist vorläufig befristet bis zum 31. März 2025. Eine Verlängerung für die Elternzeitvertretung bis 30. September 2025 wird angestrebt. \nBewerbungsschluss ist der 18. September 2024. \nWeitere Informationen hier
URL:https://www.ljr-nrw.de/termin/jugendring-duesseldorf-sucht-jugendbildungsreferent_in/
CATEGORIES:Jobs
ATTACH;FMTTYPE=image/webp:https://www.ljr-nrw.de/wp-content/uploads/2018/11/termin-jobs.webp
END:VEVENT
BEGIN:VEVENT
DTSTART;TZID=Europe/Berlin:20240925T133000
DTEND;TZID=Europe/Berlin:20240925T163000
DTSTAMP:20260420T063203
CREATED:20240821T072726Z
LAST-MODIFIED:20240821T073248Z
UID:433140-1727271000-1727281800@www.ljr-nrw.de
SUMMARY:Runder Tisch diskriminierungskritische Jugendverbandsarbeit
DESCRIPTION:Der Bundesjugendring lädt zum nächsten Runden Tisch diskriminierungskritische Jugendverbandsarbeit ein. Der Runde Tisch dient als Plattform für alle interessierten Mitgliedsorganisationen\, um sich zu fachpolitischen Fragestellungen und Themenschwerpunkten auszutauschen. Der Vorstand und die Geschäftsstelle des Bundesjugendrings begleiten diesen Prozess inhaltlich und organisatorisch. \nAnmeldefrist ist der 22. August 2024. \nAm Austausch Interessierte können sich hier in die Mailingliste eintragen. \nWeitere Informationen und Anmeldung hier
URL:https://www.ljr-nrw.de/termin/runder-tisch-diskriminierungskritische-jugendverbandsarbeit/
LOCATION:Online
CATEGORIES:Termine
ATTACH;FMTTYPE=image/webp:https://www.ljr-nrw.de/wp-content/uploads/2018/11/termin-termine.webp
END:VEVENT
BEGIN:VEVENT
DTSTART;VALUE=DATE:20240927
DTEND;VALUE=DATE:20240929
DTSTAMP:20260420T063203
CREATED:20240320T142303Z
LAST-MODIFIED:20240718T094004Z
UID:430613-1727395200-1727567999@www.ljr-nrw.de
SUMMARY:Fachtagung Kommunale Jugendpolitik
DESCRIPTION:Die Kommunalwahl 2025 naht mit schnellen Schritten. Es werden Jugendhilfeausschüsse besetzt\, kommunale Finanzen nachhaltig beeinflusst und die Rahmenbedingungen für Eure Gliederungen vor Ort geschaffen. Damit das jugendgerecht abläuft\, braucht es starke Jugendverbände vor Ort! Dass das kein Selbstläufer ist\, sehen wir alle in unserer täglichen Arbeit. Grund genug sich für diese Herausforderungen zu wappnen. \nDie LAG Jugendringe NRW lädt Euch und alle jugendpolitisch Aktiven aus Euren Reihen herzlich ein zur Fachtagung kommunale Jugendpolitik vom 27. bis 28. September 2024 in der Sportschule in Duisburg Wedau. Lasst uns gemeinsam auf die kommenden Kommunalwahlen blicken und einen Raum zur Vernetzung schaffen\, um die besten Chancen für jugendgerechtes Aufwachsen in allen NRW-Kommunen zu gewährleisten. \nDie Tagungs- und Übernachtungskosten werden übernommen.\nEs ist möglich\, nur an einem Tag der Tagung dabei zu sein. Ebenso ist es möglich ohne Übernachtung teilzunehmen. \nFlyer \nAnmeldung hier \nBei Fragen wendet Euch an Julian Lagemann\, lagemann@jugendringe.nrw
URL:https://www.ljr-nrw.de/termin/fachtagung-kommunale-jugendpolitik/
LOCATION:Sportschule Wedau Duisburg\, Friedrich-Alfred-Allee 15\, Duisburg\, 47055
CATEGORIES:Termine
ATTACH;FMTTYPE=image/webp:https://www.ljr-nrw.de/wp-content/uploads/2018/11/termin-termine.webp
END:VEVENT
END:VCALENDAR