BEGIN:VCALENDAR
VERSION:2.0
PRODID:-//Landesjugendring NRW - ECPv6.15.20//NONSGML v1.0//EN
CALSCALE:GREGORIAN
METHOD:PUBLISH
X-WR-CALNAME:Landesjugendring NRW
X-ORIGINAL-URL:https://www.ljr-nrw.de
X-WR-CALDESC:Veranstaltungen für Landesjugendring NRW
REFRESH-INTERVAL;VALUE=DURATION:PT1H
X-Robots-Tag:noindex
X-PUBLISHED-TTL:PT1H
BEGIN:VTIMEZONE
TZID:Europe/Berlin
BEGIN:DAYLIGHT
TZOFFSETFROM:+0100
TZOFFSETTO:+0200
TZNAME:CEST
DTSTART:20230326T010000
END:DAYLIGHT
BEGIN:STANDARD
TZOFFSETFROM:+0200
TZOFFSETTO:+0100
TZNAME:CET
DTSTART:20231029T010000
END:STANDARD
BEGIN:DAYLIGHT
TZOFFSETFROM:+0100
TZOFFSETTO:+0200
TZNAME:CEST
DTSTART:20240331T010000
END:DAYLIGHT
BEGIN:STANDARD
TZOFFSETFROM:+0200
TZOFFSETTO:+0100
TZNAME:CET
DTSTART:20241027T010000
END:STANDARD
BEGIN:DAYLIGHT
TZOFFSETFROM:+0100
TZOFFSETTO:+0200
TZNAME:CEST
DTSTART:20250330T010000
END:DAYLIGHT
BEGIN:STANDARD
TZOFFSETFROM:+0200
TZOFFSETTO:+0100
TZNAME:CET
DTSTART:20251026T010000
END:STANDARD
END:VTIMEZONE
BEGIN:VEVENT
DTSTART;VALUE=DATE:20240524
DTEND;VALUE=DATE:20240527
DTSTAMP:20260422T121652
CREATED:20240320T143522Z
LAST-MODIFIED:20240320T143522Z
UID:430618-1716508800-1716767999@www.ljr-nrw.de
SUMMARY:BundesJugendkonferenz
DESCRIPTION:Bei der BundesJugendKonferenz 2024 treffen sich 200 junge Menschen aus ganz Deutschland. Sie gestalten Beteiligung\, vernetzen sich und diskutieren jugendpolitische Themen.\nDie BundesJugendKonferenz sucht junge Menschen zwischen 14 und 27 Jahren\, die gemeinsam die Jugendbeteiligung im Nationalen Aktionsplan für Kinder- und Jugendbeteiligung stärken. Die Konferenz bietet spannende Workshops\, Diskussionen mit Politiker_innen und eine vielfältige Abendgestaltung. Höhepunkt wird eine Diskussion mit Bundesjugendministerin Lisa Paus im Tipi am Kanzleramt. \nAnmeldeschluss ist der 10. April 2024. \nWeitere Informationen und Anmeldung hier
URL:https://www.ljr-nrw.de/termin/bundesjugendkonferenz/
LOCATION:GLS Campus Berlin
CATEGORIES:Termine
ATTACH;FMTTYPE=image/webp:https://www.ljr-nrw.de/wp-content/uploads/2018/11/termin-termine.webp
END:VEVENT
BEGIN:VEVENT
DTSTART;TZID=Europe/Berlin:20240524T113000
DTEND;TZID=Europe/Berlin:20240524T143000
DTSTAMP:20260422T121652
CREATED:20240424T095148Z
LAST-MODIFIED:20240424T101143Z
UID:431077-1716550200-1716561000@www.ljr-nrw.de
SUMMARY:Jugend kreativ am Strukturwandel im Rheinischen Revier beteiligen
DESCRIPTION:Am 24. Mai 2024 lädt das Netzwerkbüro Bildung Rheinisches Revier (NBR) von 11:30 – 14:30 Uhr zum Ideenworkshop in die Katholische Hochschule NRW in Aachen ein. Im Workshop werden Ideen entwickelt\, wie Jugendliche mithilfe von Kunst\, Musik\, Theater\, digitalen Medien und anderen kulturellen Ausdrucksformen den Strukturwandel im Rheinischen Revier mitgestalten können. \nAnmeldeschluss ist der 10. Mai 2024. \nWeitere Informationen und Anmeldung bei Henry Peters
URL:https://www.ljr-nrw.de/termin/jugend-kreativ-am-strukturwandel-im-rheinischen-revier-beteiligen/
LOCATION:Katholische Hochschule NRW Aachen
CATEGORIES:Termine
ATTACH;FMTTYPE=image/webp:https://www.ljr-nrw.de/wp-content/uploads/2018/11/termin-termine.webp
END:VEVENT
BEGIN:VEVENT
DTSTART;VALUE=DATE:20240527
DTEND;VALUE=DATE:20240530
DTSTAMP:20260422T121652
CREATED:20240124T113101Z
LAST-MODIFIED:20240130T111919Z
UID:428514-1716768000-1717027199@www.ljr-nrw.de
SUMMARY:U16-Europawahl
DESCRIPTION:Vom 27. – 29. Mai 2024 findet die U16-Europawahl in NRW statt. In dieser Zeit können junge Menschen ihre Stimme abgeben. Die Ergebnisse werden bundesweit gesammelt und veröffentlicht. \nWahllokale können überall dort eingerichtet werden\, wo Kinder und Jugendliche sich aufhalten. Die U16-Wahl möchte darauf aufmerksam machen\, dass junge Menschen in der Lage sind\, sich eine eigene Meinung zu bilden\, auch wenn sie noch nicht >offiziell< wählen dürfen. \nDamit möglichst viele Kinder und Jugendliche die Chance haben\, an der U16-Wahl teilzunehmen\, braucht es viele Wahllokale. Diese können von Akteur_innen vor Ort organisiert werden\, ebenso wie Veranstaltungen zur politischen Bildung.\nWahllokale müssen online angemeldet werden unter www.u16nrw.de. Hier finden sich auch fortlaufend aktuelle Informationen. \n  \nAuch in diesem Jahr bieten wir wieder digitale Info-Veranstaltungen zur U16-Europawahl an.\nDort klären wir alle Fragen rund um den Ablauf der U16-Wahl\, Software\, Anmeldung\, Fördermöglichkeiten\, Materialien\, Aufwand und Verfahren. \n\nInfotermin für Regionalkoordinator_innen: 26. Februar 2024\, 11:00 – 12:00 Uhr\nInfotermin zur Anmeldung von Wahllokalen: 28. Februar 2024\, 18:00 – 19:30  Uhr oder 7. März 2024\, 10:30 – 11:30 Uhr\nInfotermin zum Eintragen von Wahlergebnissen: 8. Mai 2024\, 18:00 – 19:00 Uhr\n\nDie Anmeldung zu den Terminen wird in Kürze hier freigeschaltet. \n  \nBei Rückfragen zur U16-Wahl meldet euch gerne unter info@u16nrw.de.
URL:https://www.ljr-nrw.de/termin/u16-europawahl/
CATEGORIES:Termine
ATTACH;FMTTYPE=image/webp:https://www.ljr-nrw.de/wp-content/uploads/2024/01/ljr_themenbild_u16nrw_eu.webp
END:VEVENT
END:VCALENDAR