BEGIN:VCALENDAR
VERSION:2.0
PRODID:-//Landesjugendring NRW - ECPv6.15.20//NONSGML v1.0//EN
CALSCALE:GREGORIAN
METHOD:PUBLISH
X-WR-CALNAME:Landesjugendring NRW
X-ORIGINAL-URL:https://www.ljr-nrw.de
X-WR-CALDESC:Veranstaltungen für Landesjugendring NRW
REFRESH-INTERVAL;VALUE=DURATION:PT1H
X-Robots-Tag:noindex
X-PUBLISHED-TTL:PT1H
BEGIN:VTIMEZONE
TZID:Europe/Berlin
BEGIN:DAYLIGHT
TZOFFSETFROM:+0100
TZOFFSETTO:+0200
TZNAME:CEST
DTSTART:20240331T010000
END:DAYLIGHT
BEGIN:STANDARD
TZOFFSETFROM:+0200
TZOFFSETTO:+0100
TZNAME:CET
DTSTART:20241027T010000
END:STANDARD
BEGIN:DAYLIGHT
TZOFFSETFROM:+0100
TZOFFSETTO:+0200
TZNAME:CEST
DTSTART:20250330T010000
END:DAYLIGHT
BEGIN:STANDARD
TZOFFSETFROM:+0200
TZOFFSETTO:+0100
TZNAME:CET
DTSTART:20251026T010000
END:STANDARD
BEGIN:DAYLIGHT
TZOFFSETFROM:+0100
TZOFFSETTO:+0200
TZNAME:CEST
DTSTART:20260329T010000
END:DAYLIGHT
BEGIN:STANDARD
TZOFFSETFROM:+0200
TZOFFSETTO:+0100
TZNAME:CET
DTSTART:20261025T010000
END:STANDARD
END:VTIMEZONE
BEGIN:VEVENT
DTSTART;TZID=Europe/Berlin:20250205T180000
DTEND;TZID=Europe/Berlin:20250205T190000
DTSTAMP:20260422T194010
CREATED:20250116T091859Z
LAST-MODIFIED:20250116T094312Z
UID:433960-1738778400-1738782000@www.ljr-nrw.de
SUMMARY:Infotermin zum Eintragen von Wahlergebnissen
DESCRIPTION:Damit in der U18-Wahlwoche alles rund läuft\, bieten wir vorab einen digitalen Infotermin zum Eintragen von Wahlergebnissen an. \nHier geht’s zur Anmeldung
URL:https://www.ljr-nrw.de/termin/infotermin-zum-eintragen-von-wahlergebnissen/
LOCATION:Online
CATEGORIES:Termine
ATTACH;FMTTYPE=image/webp:https://www.ljr-nrw.de/wp-content/uploads/2020/11/U18-Bundestagswahl_web_zugeschnitten-1-e1613986653287.webp
END:VEVENT
BEGIN:VEVENT
DTSTART;VALUE=DATE:20250223
DTEND;VALUE=DATE:20250224
DTSTAMP:20260422T194010
CREATED:20250116T100217Z
LAST-MODIFIED:20250116T100243Z
UID:433963-1740268800-1740355199@www.ljr-nrw.de
SUMMARY:Fördermittel für U18 gesucht? Deutsches Kinderhilfswerk richtet Sonderfonds ein
DESCRIPTION:Gute Nachrichten: Ab sofort können gemeinnützige Träger der Kinder- und Jugendhilfe sowie Kommunen bis zu 5.000 € Fördermittel aus dem Sonderfonds „U18 – Kinder- und Jugendbeteiligung zur Bundestagswahl 2025“ beantragen. Auch Kinder und Jugendliche selbst können Fördermittel von bis zu 500 € beantragen. Förderfähig sind alle Projekte\, die sich mit Demokratie oder Kinderrechten beschäftigen. \nDie Antragstellung ist bis zum 23. Februar 2025 möglich.  \nMit der zu fördernden Maßnahme darf noch nicht vor der Förderentscheidung begonnen worden sein. Das Projekt sollte im Vorfeld der Bundestagswahl stattfinden\, muss jedoch bis spätestens zum 31. März 2025 abgeschlossen sein. \nWeitere Informationen hier
URL:https://www.ljr-nrw.de/termin/foerdermittel-fuer-u18-gesucht-deutsches-kinderhilfswerk-richtet-sonderfonds-ein/
CATEGORIES:Ausschreibungen/ Wettbewerbe
ATTACH;FMTTYPE=image/webp:https://www.ljr-nrw.de/wp-content/uploads/2020/11/U18-Bundestagswahl_web_zugeschnitten-1-e1613986653287.webp
END:VEVENT
END:VCALENDAR