BEGIN:VCALENDAR
VERSION:2.0
PRODID:-//Landesjugendring NRW - ECPv6.15.20//NONSGML v1.0//EN
CALSCALE:GREGORIAN
METHOD:PUBLISH
X-WR-CALNAME:Landesjugendring NRW
X-ORIGINAL-URL:https://www.ljr-nrw.de
X-WR-CALDESC:Veranstaltungen für Landesjugendring NRW
REFRESH-INTERVAL;VALUE=DURATION:PT1H
X-Robots-Tag:noindex
X-PUBLISHED-TTL:PT1H
BEGIN:VTIMEZONE
TZID:Europe/Berlin
BEGIN:DAYLIGHT
TZOFFSETFROM:+0100
TZOFFSETTO:+0200
TZNAME:CEST
DTSTART:20250330T010000
END:DAYLIGHT
BEGIN:STANDARD
TZOFFSETFROM:+0200
TZOFFSETTO:+0100
TZNAME:CET
DTSTART:20251026T010000
END:STANDARD
BEGIN:DAYLIGHT
TZOFFSETFROM:+0100
TZOFFSETTO:+0200
TZNAME:CEST
DTSTART:20260329T010000
END:DAYLIGHT
BEGIN:STANDARD
TZOFFSETFROM:+0200
TZOFFSETTO:+0100
TZNAME:CET
DTSTART:20261025T010000
END:STANDARD
BEGIN:DAYLIGHT
TZOFFSETFROM:+0100
TZOFFSETTO:+0200
TZNAME:CEST
DTSTART:20270328T010000
END:DAYLIGHT
BEGIN:STANDARD
TZOFFSETFROM:+0200
TZOFFSETTO:+0100
TZNAME:CET
DTSTART:20271031T010000
END:STANDARD
END:VTIMEZONE
BEGIN:VEVENT
DTSTART;TZID=Europe/Berlin:20260506T100000
DTEND;TZID=Europe/Berlin:20260506T160000
DTSTAMP:20260424T221052
CREATED:20260414T133008Z
LAST-MODIFIED:20260414T133131Z
UID:437117-1778061600-1778083200@www.ljr-nrw.de
SUMMARY:Seminar „Entgrenzt: Antisemitismus 360°“
DESCRIPTION:Das Seminar von ADIRA (Jüdische Gemeinde Dortmund) gemeinsam mit der WerteInitiative zu den verschiedenen Erscheinungsformen des Antisemitismus richtet sich an erwachsene Multiplikator_innen aus Schulen\, der Jugendarbeit\, Bildungs- und Beratungseinrichtungen\, Vereinen\, Justiz\, Sicherheits- und Strafverfolgungsbehörden\, Verwaltungen sowie (kommunaler) Politik. \nAnmeldeschluss ist der 29. April 2026. \nWeitere Informationen hier. \n 
URL:https://www.ljr-nrw.de/termin/seminar-entgrenzt-antisemitismus-360/
LOCATION:Jüdische Gemeinde Dortmund\, Prinz-Friedrich-Karl-Straße 9\, Dortmund\, 44135
CATEGORIES:Termine
ATTACH;FMTTYPE=image/webp:https://www.ljr-nrw.de/wp-content/uploads/2018/11/termin-termine.webp
END:VEVENT
BEGIN:VEVENT
DTSTART;TZID=Europe/Berlin:20260507T100000
DTEND;TZID=Europe/Berlin:20260507T160000
DTSTAMP:20260424T221052
CREATED:20260311T142117Z
LAST-MODIFIED:20260313T100947Z
UID:436936-1778148000-1778169600@www.ljr-nrw.de
SUMMARY:Rassismuskritik in der Jugendarbeit – zwischen Anspruch und Praxis
DESCRIPTION:Wie kann rassismuskritische Jugendarbeit im Alltag gelingen? Welche Herausforderungen begegnen Fachkräften in der Praxis und welche Ansätze können dabei unterstützen\, Jugendarbeit diskriminierungssensibler und rassismuskritischer zu gestalten? \nMit diesen Fragen beschäftigt sich der Fachtag des Forums „Rassismuskritische Ansätze für die Kinder- und Jugendförderung“ (RKJ-Forum).\nDie Veranstaltung richtet sich an Fachkräfte\, Multiplikator_innen und Engagierte aus der Kinder- und Jugendarbeit\, die sich mit rassismuskritischen Perspektiven auseinandersetzen und ihre Praxis weiterentwickeln möchten. \nDer Fachtag bietet Raum für fachliche Impulse\, Austausch und Diskussion. Gemeinsam sollen aktuelle Herausforderungen\, Erfahrungen aus der Praxis sowie mögliche Handlungsperspektiven für eine rassismuskritische Kinder- und Jugendarbeit beleuchtet werden. Darüber hinaus bietet die Veranstaltung Gelegenheit zur Vernetzung mit Akteur_innen aus unterschiedlichen Bereichen der Jugendarbeit in NRW. \nDas RKJ-Forum wird getragen von IDA-NRW\, der Arbeitsgemeinschaft Offene Türen Nordrhein-Westfalen e. V.\, der Landesarbeitsgemeinschaft Jugendsozialarbeit NRW\, dem Landesjugendring NRW\, der Landesvereinigung kulturelle Jugendarbeit NRW e. V. und dem Paritätischen Jugendwerk NRW. \nAnmeldeschluss ist der 30. April 2026. \nWeitere Informationen hier
URL:https://www.ljr-nrw.de/termin/rassismuskritik-in-der-jugendarbeit-zwischen-anspruch-und-praxis/
LOCATION:Düsseldorf
CATEGORIES:Termine
ATTACH;FMTTYPE=image/png:https://www.ljr-nrw.de/wp-content/uploads/2026/03/Sharepic_Fachtag_RKJ_260507_1-e1773396575160.png
END:VEVENT
BEGIN:VEVENT
DTSTART;TZID=Europe/Berlin:20260530T100000
DTEND;TZID=Europe/Berlin:20260531T160000
DTSTAMP:20260424T221052
CREATED:20230118T164357Z
LAST-MODIFIED:20260407T092040Z
UID:424408-1780135200-1780243200@www.ljr-nrw.de
SUMMARY:KRITISCHES WEIßSEIN-WORKSHOP Aufbau: 30.-31. Mai 2026 - Online
DESCRIPTION:Dieser Aufbau-Workshop besteht aus zwei zusammenhängenden Terminen. Er richtet sich an Personen\, die bereits einen Einführungsworkshop besucht haben und einen Nachweis darüber erbringen können.\n   \nOnline-Termine: \nSamstag\, 30. Mai 2026\, 10:00 – 16:00 Uhr\nSonntag\, 31. Mai 2026\, 10:00 – 16:00 Uhr \n(Anmeldeschluss ist der 21. Mai 2026.\n Anmeldewünsche darüber hinaus bitte an laabich@ljr-nrw.de richten.) \nAnmeldung hier \nWeitere Informationen hier 
URL:https://www.ljr-nrw.de/termin/kritisches-weisssein-workshop-aufbau-30-31-mai-2026-online/
LOCATION:Online
CATEGORIES:Termine
ATTACH;FMTTYPE=image/webp:https://www.ljr-nrw.de/wp-content/uploads/2022/08/ljr_themenbild_migration-integration.webp
END:VEVENT
END:VCALENDAR