BEGIN:VCALENDAR
VERSION:2.0
PRODID:-//Landesjugendring NRW - ECPv6.15.20//NONSGML v1.0//EN
CALSCALE:GREGORIAN
METHOD:PUBLISH
X-ORIGINAL-URL:https://www.ljr-nrw.de
X-WR-CALDESC:Veranstaltungen für Landesjugendring NRW
REFRESH-INTERVAL;VALUE=DURATION:PT1H
X-Robots-Tag:noindex
X-PUBLISHED-TTL:PT1H
BEGIN:VTIMEZONE
TZID:Europe/Berlin
BEGIN:DAYLIGHT
TZOFFSETFROM:+0100
TZOFFSETTO:+0200
TZNAME:CEST
DTSTART:20230326T010000
END:DAYLIGHT
BEGIN:STANDARD
TZOFFSETFROM:+0200
TZOFFSETTO:+0100
TZNAME:CET
DTSTART:20231029T010000
END:STANDARD
BEGIN:DAYLIGHT
TZOFFSETFROM:+0100
TZOFFSETTO:+0200
TZNAME:CEST
DTSTART:20240331T010000
END:DAYLIGHT
BEGIN:STANDARD
TZOFFSETFROM:+0200
TZOFFSETTO:+0100
TZNAME:CET
DTSTART:20241027T010000
END:STANDARD
BEGIN:DAYLIGHT
TZOFFSETFROM:+0100
TZOFFSETTO:+0200
TZNAME:CEST
DTSTART:20250330T010000
END:DAYLIGHT
BEGIN:STANDARD
TZOFFSETFROM:+0200
TZOFFSETTO:+0100
TZNAME:CET
DTSTART:20251026T010000
END:STANDARD
END:VTIMEZONE
BEGIN:VEVENT
DTSTART;VALUE=DATE:20240520
DTEND;VALUE=DATE:20240521
DTSTAMP:20260426T045027
CREATED:20240425T065053Z
LAST-MODIFIED:20240425T065053Z
UID:431117-1716163200-1716249599@www.ljr-nrw.de
SUMMARY:IDA-NRW sucht Sachbearbeiter_in
DESCRIPTION:Das Informations- und Dokumentationszentrum für Antirassismusarbeit (IDA e.V.) sucht für die Fachstelle IDA-NRW möglichst bald eine_n Sachbearbeiter_in (m/w/d)\, unbefristet\, für 80 bis 100 % einer vollen Stelle. \nDie_der Stelleninhaber_in ist verantwortlich für die Büroorganisation und den reibungslosen Ablauf des Sekretariats und unterstützt die Mitarbeiter_innen des IDA-NRW in organisatorischen Fragen im Zusammenhang mit Veranstaltungen und Projekten. \nIDA-NRW ist seit 1994 die landesweite Fachstelle zu Rassismuskritik und Rechtsextremismusprävention in NRW. Unser Angebot richtet sich an Multiplikator_innen sowie an Pädagog_innen der Jugendverbandsarbeit und der Jugendhilfe in NRW sowie an andere Interessierte. Die Fachstelle ist angesiedelt beim Verein IDA e.V. mit Sitz in Düsseldorf. \nBewerbungsschluss ist der 20. Mai 2024. \nWeitere Informationen hier
URL:https://www.ljr-nrw.de/termin/ida-nrw-sucht-sachbearbeiter_in/
CATEGORIES:Jobs
ATTACH;FMTTYPE=image/webp:https://www.ljr-nrw.de/wp-content/uploads/2018/11/termin-jobs.webp
END:VEVENT
END:VCALENDAR