BEGIN:VCALENDAR
VERSION:2.0
PRODID:-//Landesjugendring NRW - ECPv6.15.20//NONSGML v1.0//EN
CALSCALE:GREGORIAN
METHOD:PUBLISH
X-ORIGINAL-URL:https://www.ljr-nrw.de
X-WR-CALDESC:Veranstaltungen für Landesjugendring NRW
REFRESH-INTERVAL;VALUE=DURATION:PT1H
X-Robots-Tag:noindex
X-PUBLISHED-TTL:PT1H
BEGIN:VTIMEZONE
TZID:Europe/Berlin
BEGIN:DAYLIGHT
TZOFFSETFROM:+0100
TZOFFSETTO:+0200
TZNAME:CEST
DTSTART:20240331T010000
END:DAYLIGHT
BEGIN:STANDARD
TZOFFSETFROM:+0200
TZOFFSETTO:+0100
TZNAME:CET
DTSTART:20241027T010000
END:STANDARD
BEGIN:DAYLIGHT
TZOFFSETFROM:+0100
TZOFFSETTO:+0200
TZNAME:CEST
DTSTART:20250330T010000
END:DAYLIGHT
BEGIN:STANDARD
TZOFFSETFROM:+0200
TZOFFSETTO:+0100
TZNAME:CET
DTSTART:20251026T010000
END:STANDARD
BEGIN:DAYLIGHT
TZOFFSETFROM:+0100
TZOFFSETTO:+0200
TZNAME:CEST
DTSTART:20260329T010000
END:DAYLIGHT
BEGIN:STANDARD
TZOFFSETFROM:+0200
TZOFFSETTO:+0100
TZNAME:CET
DTSTART:20261025T010000
END:STANDARD
END:VTIMEZONE
BEGIN:VEVENT
DTSTART;TZID=Europe/Berlin:20250926T130000
DTEND;TZID=Europe/Berlin:20250926T160000
DTSTAMP:20260419T170951
CREATED:20250708T131433Z
LAST-MODIFIED:20250708T131556Z
UID:435042-1758891600-1758902400@www.ljr-nrw.de
SUMMARY:Austausch zu (demokratiefördernden) KI-Methoden in der Medienpädagogik
DESCRIPTION:Wer hat eigentlich Zugang zu aktuellen KI-Technologien? Was hat KI mit Extremismus zu tun? Wie beeinflussen Tech-Milliardäre die europäischen Datenschutzrichtlinien? Und wie können Medienpädagog_innen den komplexen Fragen bei der Nutzung von KI-Technologie in der praktischen Arbeit gerecht werden?\nIm Worldcafé-Format tauschen die Teilnehmenden der GMK-NRW-Tagung Erfahrungen aus der medienpädagogischen Praxis aus.\nThemen: Zugang zu KI\, Extremismus\, Datenschutz\, Methoden & politische Forderungen. Die Tagung bietet Raum für Austausch\, Reflexion und Vernetzung. \nWeitere Informationen hier 
URL:https://www.ljr-nrw.de/termin/austausch-zu-demokratiefoerdernden-ki-methoden-in-der-medienpaedagogik/
LOCATION:jfc Medienzentrum Köln
CATEGORIES:Termine
ATTACH;FMTTYPE=image/webp:https://www.ljr-nrw.de/wp-content/uploads/2018/11/termin-termine.webp
END:VEVENT
END:VCALENDAR