BEGIN:VCALENDAR
VERSION:2.0
PRODID:-//Landesjugendring NRW - ECPv6.15.20//NONSGML v1.0//EN
CALSCALE:GREGORIAN
METHOD:PUBLISH
X-ORIGINAL-URL:https://www.ljr-nrw.de
X-WR-CALDESC:Veranstaltungen für Landesjugendring NRW
REFRESH-INTERVAL;VALUE=DURATION:PT1H
X-Robots-Tag:noindex
X-PUBLISHED-TTL:PT1H
BEGIN:VTIMEZONE
TZID:Europe/Berlin
BEGIN:DAYLIGHT
TZOFFSETFROM:+0100
TZOFFSETTO:+0200
TZNAME:CEST
DTSTART:20240331T010000
END:DAYLIGHT
BEGIN:STANDARD
TZOFFSETFROM:+0200
TZOFFSETTO:+0100
TZNAME:CET
DTSTART:20241027T010000
END:STANDARD
BEGIN:DAYLIGHT
TZOFFSETFROM:+0100
TZOFFSETTO:+0200
TZNAME:CEST
DTSTART:20250330T010000
END:DAYLIGHT
BEGIN:STANDARD
TZOFFSETFROM:+0200
TZOFFSETTO:+0100
TZNAME:CET
DTSTART:20251026T010000
END:STANDARD
BEGIN:DAYLIGHT
TZOFFSETFROM:+0100
TZOFFSETTO:+0200
TZNAME:CEST
DTSTART:20260329T010000
END:DAYLIGHT
BEGIN:STANDARD
TZOFFSETFROM:+0200
TZOFFSETTO:+0100
TZNAME:CET
DTSTART:20261025T010000
END:STANDARD
END:VTIMEZONE
BEGIN:VEVENT
DTSTART;VALUE=DATE:20250731
DTEND;VALUE=DATE:20250801
DTSTAMP:20260419T201319
CREATED:20250626T090536Z
LAST-MODIFIED:20250626T094819Z
UID:434994-1753920000-1754006399@www.ljr-nrw.de
SUMMARY:Jugendbeirat des Deutschen Multimediapreises mb21 sucht Verstärkung
DESCRIPTION:Der Deutsche Multimediapreis mb21 öffnet jungen Medienbegeisterten die Tür zur aktiven Mitgestaltung: Kinder\, Jugendliche und junge Erwachsene zwischen 16 und 22 Jahren mit Visionen\, Kreativität und einem Gespür für gesellschaftlich relevante Themen\, die sich für digitale Medien interessieren und sich kreativ engagieren möchten\, sind eingeladen\, Teil des einzigartigen Jugendbeirats zu werden.\nDer Jugendbeirat bringt junge Perspektiven direkt in den Wettbewerb ein.\nAlle Kosten werden übernommen.\nDie Bewerbung erfolgt kreativ: Ob Video\, Motivationsschreiben oder eine andere digitale Form – Hauptsache\, sie zeigt Persönlichkeit\, Interesse und Engagement. \nEinsendeschluss ist der 31. Juli 2025. \nWeitere Informationen auch hier
URL:https://www.ljr-nrw.de/termin/jugendbeirat-des-deutschen-multimediapreises-mb21-sucht-verstaerkung/
CATEGORIES:Ausschreibungen/ Wettbewerbe,Jobs
ATTACH;FMTTYPE=image/webp:https://www.ljr-nrw.de/wp-content/uploads/2018/11/termin-presse.webp
END:VEVENT
END:VCALENDAR