BEGIN:VCALENDAR
VERSION:2.0
PRODID:-//Landesjugendring NRW - ECPv6.15.20//NONSGML v1.0//EN
CALSCALE:GREGORIAN
METHOD:PUBLISH
X-ORIGINAL-URL:https://www.ljr-nrw.de
X-WR-CALDESC:Veranstaltungen für Landesjugendring NRW
REFRESH-INTERVAL;VALUE=DURATION:PT1H
X-Robots-Tag:noindex
X-PUBLISHED-TTL:PT1H
BEGIN:VTIMEZONE
TZID:Europe/Berlin
BEGIN:DAYLIGHT
TZOFFSETFROM:+0100
TZOFFSETTO:+0200
TZNAME:CEST
DTSTART:20230326T010000
END:DAYLIGHT
BEGIN:STANDARD
TZOFFSETFROM:+0200
TZOFFSETTO:+0100
TZNAME:CET
DTSTART:20231029T010000
END:STANDARD
BEGIN:DAYLIGHT
TZOFFSETFROM:+0100
TZOFFSETTO:+0200
TZNAME:CEST
DTSTART:20240331T010000
END:DAYLIGHT
BEGIN:STANDARD
TZOFFSETFROM:+0200
TZOFFSETTO:+0100
TZNAME:CET
DTSTART:20241027T010000
END:STANDARD
BEGIN:DAYLIGHT
TZOFFSETFROM:+0100
TZOFFSETTO:+0200
TZNAME:CEST
DTSTART:20250330T010000
END:DAYLIGHT
BEGIN:STANDARD
TZOFFSETFROM:+0200
TZOFFSETTO:+0100
TZNAME:CET
DTSTART:20251026T010000
END:STANDARD
END:VTIMEZONE
BEGIN:VEVENT
DTSTART;VALUE=DATE:20241116
DTEND;VALUE=DATE:20241118
DTSTAMP:20260420T084700
CREATED:20241113T121424Z
LAST-MODIFIED:20241113T121424Z
UID:433559-1731715200-1731887999@www.ljr-nrw.de
SUMMARY:Düsseldorfer Jugendmedientage
DESCRIPTION:Die Jugendmedientage vom Jugendring Düsseldorf richten sich an Medieninteressierten im Alter von 14 – 25 Jahren und bieten Jugendlichen und jungen Erwachsenen einen Einblick in das breite Feld der Medien\, vom Webdesign bis hin zum Schauspiel. Die Teilnahme ist inklusive Verpflegung kostenlos. \nIn den meist zweitägigen Workshops können die Teilnehmenden Neues rund um den Einsatz (digitaler) Medien lernen und vorhandenes Wissen erweitern sowie alles über Ausbildungen und Studiengänge der Medienbranche und eine Menge über die Arbeitswelt der Medienberufe erfahren. \nAlle wichtigen Infos zum Ablauf\, zu den Workshops und der Anmeldung hier
URL:https://www.ljr-nrw.de/termin/duesseldorfer-jugendmedientage/
LOCATION:Düsseldorf
CATEGORIES:Termine
ATTACH;FMTTYPE=image/webp:https://www.ljr-nrw.de/wp-content/uploads/2018/11/termin-termine.webp
END:VEVENT
END:VCALENDAR