BEGIN:VCALENDAR
VERSION:2.0
PRODID:-//Landesjugendring NRW - ECPv6.15.20//NONSGML v1.0//EN
CALSCALE:GREGORIAN
METHOD:PUBLISH
X-ORIGINAL-URL:https://www.ljr-nrw.de
X-WR-CALDESC:Veranstaltungen für Landesjugendring NRW
REFRESH-INTERVAL;VALUE=DURATION:PT1H
X-Robots-Tag:noindex
X-PUBLISHED-TTL:PT1H
BEGIN:VTIMEZONE
TZID:Europe/Berlin
BEGIN:DAYLIGHT
TZOFFSETFROM:+0100
TZOFFSETTO:+0200
TZNAME:CEST
DTSTART:20230326T010000
END:DAYLIGHT
BEGIN:STANDARD
TZOFFSETFROM:+0200
TZOFFSETTO:+0100
TZNAME:CET
DTSTART:20231029T010000
END:STANDARD
BEGIN:DAYLIGHT
TZOFFSETFROM:+0100
TZOFFSETTO:+0200
TZNAME:CEST
DTSTART:20240331T010000
END:DAYLIGHT
BEGIN:STANDARD
TZOFFSETFROM:+0200
TZOFFSETTO:+0100
TZNAME:CET
DTSTART:20241027T010000
END:STANDARD
BEGIN:DAYLIGHT
TZOFFSETFROM:+0100
TZOFFSETTO:+0200
TZNAME:CEST
DTSTART:20250330T010000
END:DAYLIGHT
BEGIN:STANDARD
TZOFFSETFROM:+0200
TZOFFSETTO:+0100
TZNAME:CET
DTSTART:20251026T010000
END:STANDARD
END:VTIMEZONE
BEGIN:VEVENT
DTSTART;TZID=Europe/Berlin:20240515T100000
DTEND;TZID=Europe/Berlin:20240515T140000
DTSTAMP:20260421T115703
CREATED:20240410T070155Z
LAST-MODIFIED:20240410T071243Z
UID:430720-1715767200-1715781600@www.ljr-nrw.de
SUMMARY:Netzwerktreffen des RKJ-Forums
DESCRIPTION:Das Forum ‚Rassismuskritische Ansätze für die Kinder- und Jugendförderung lädt zum nächsten Netzwerktreffen ein. Im Zuge einer Denkwerkstatt widmet sich das Treffen folgender Thematik: Nach der Correctiv-Recherche und vor den Wahlen: Herausforderungen für pädagogische und politische Fachkräfte im Umgang mit neurechten Verschiebungen.\nEingeladen sind Fachkräfte und Multiplikator_innen aus den Mitgliedsverbänden und Mitarbeitende aus deren Geschäftsführung\, Leitungsebene und Vorständen. \nDas RKJ-Forum setzt sich aus IDA-NRW und dem Arbeitskreis G5 zusammen\, welcher aus folgenden Mitgliedern besteht: AGOT-NRW\, LAG JSA NRW\, LJR NRW\, LKJ\, und PJW NRW. Ziel des Forums ist die Stärkung der Handlungssicherheit von Trägern der Kinder- und Jugendarbeit im Umgang mit Rassismus\, Antisemitismus und Rechtsextremismus. \nAnmeldung sind bis zum 13. Mai 2024 hier möglich: forum@ida-nrw.de \nFlyer_Netzwerktreffen_RKJ_Mai_2024 \nWeitere Informationen hier
URL:https://www.ljr-nrw.de/termin/netzwerktreffen-des-rkj-forums/
LOCATION:Gerhard-Hauptmann-Haus\, Düsseldorf
CATEGORIES:Termine
ATTACH;FMTTYPE=image/webp:https://www.ljr-nrw.de/wp-content/uploads/2018/11/termin-termine.webp
END:VEVENT
BEGIN:VEVENT
DTSTART;VALUE=DATE:20240519
DTEND;VALUE=DATE:20240520
DTSTAMP:20260421T115703
CREATED:20240418T090112Z
LAST-MODIFIED:20240419T095257Z
UID:430896-1716076800-1716163199@www.ljr-nrw.de
SUMMARY:Landesjugendring NRW sucht Referent_in
DESCRIPTION:Zunächst befristet für den Zeitraum bis zum 31. Oktober 2025 suchen wir schnellstmöglich für unsere Geschäftsstelle mit Sitz in Düsseldorf eine_n Referent_in (m/w/d) für die Kompetenzstelle Demokratieförderung. Die Stelle ist mit 28 Wochenstunden zu besetzen.\nDie_der Stelleninhaber_in koordiniert und verantwortet die erfolgreiche Implementierung des Projekttags D (gegen Antisemitismus) innerhalb des Netzwerks für Demokratie und Courage (NDC) NRW. Dies beinhaltet die Organisation und Planung sowie den damit zusammenhängenden Austausch mit dem NDC-Overhead\, die Budgetplanung sowie die finanzielle Abwicklung des Projekttags D. Darüber hinaus obliegt dem_der Stelleninhaber_in die Koordination von Buchungsanfragen und der Erstkontakt mit Lehrer_innen und Jugendverbänden. \nDer Landesjugendring NRW ist die Arbeitsgemeinschaft der 26 auf Landesebene tätigen Jugendverbände in Nordrhein-Westfalen. Er fördert und vertritt die Belange von Kindern und Jugendlichen und seiner Mitgliedsverbände gegenüber Gesellschaft und Politik. Der Landesjugendring NRW trägt die Landesnetzstelle für das Netzwerk für Demokratie und Courage in NRW. \nBewerbungsschluss ist der 19. Mai 2024. \nWeitere Informationen in der Stellenausschreibung
URL:https://www.ljr-nrw.de/termin/landesjugendring-nrw-sucht-referent_in/
CATEGORIES:Jobs
ATTACH;FMTTYPE=image/webp:https://www.ljr-nrw.de/wp-content/uploads/2019/07/cropped-LJR_Twitter_Profilbild-2.webp
END:VEVENT
BEGIN:VEVENT
DTSTART;TZID=Europe/Berlin:20240525T110000
DTEND;TZID=Europe/Berlin:20240525T190000
DTSTAMP:20260421T115703
CREATED:20240522T114346Z
LAST-MODIFIED:20240522T114759Z
UID:431785-1716634800-1716663600@www.ljr-nrw.de
SUMMARY:Fest der Demokratie in Bonn – der Deutsche Bundestag lädt ein
DESCRIPTION:Der Deutsche Bundestag beteiligt sich an den Jubiläumsfeierlichkeiten zum 75jährigen Bestehen des Grundgesetzes mit einem Fest der Demokratie – sowohl in Bonn als auch in Berlin. In Bonn öffnet ab ca. 10:30 Uhr das ehemalige Plenargebäude\, das heutige World Conference Center Bonn\, für die Gäste. \nAlle Programmpunkte dieses Tages finden sich hier.
URL:https://www.ljr-nrw.de/termin/fest-der-demokratie-in-bonn-der-deutsche-bundestag-laedt-ein/
LOCATION:Bonn
CATEGORIES:Termine
ATTACH;FMTTYPE=image/webp:https://www.ljr-nrw.de/wp-content/uploads/2018/11/termin-termine.webp
END:VEVENT
END:VCALENDAR