BEGIN:VCALENDAR
VERSION:2.0
PRODID:-//Landesjugendring NRW - ECPv6.15.20//NONSGML v1.0//EN
CALSCALE:GREGORIAN
METHOD:PUBLISH
X-WR-CALNAME:Landesjugendring NRW
X-ORIGINAL-URL:https://www.ljr-nrw.de
X-WR-CALDESC:Veranstaltungen für Landesjugendring NRW
REFRESH-INTERVAL;VALUE=DURATION:PT1H
X-Robots-Tag:noindex
X-PUBLISHED-TTL:PT1H
BEGIN:VTIMEZONE
TZID:Europe/Berlin
BEGIN:DAYLIGHT
TZOFFSETFROM:+0100
TZOFFSETTO:+0200
TZNAME:CEST
DTSTART:20250330T010000
END:DAYLIGHT
BEGIN:STANDARD
TZOFFSETFROM:+0200
TZOFFSETTO:+0100
TZNAME:CET
DTSTART:20251026T010000
END:STANDARD
BEGIN:DAYLIGHT
TZOFFSETFROM:+0100
TZOFFSETTO:+0200
TZNAME:CEST
DTSTART:20260329T010000
END:DAYLIGHT
BEGIN:STANDARD
TZOFFSETFROM:+0200
TZOFFSETTO:+0100
TZNAME:CET
DTSTART:20261025T010000
END:STANDARD
BEGIN:DAYLIGHT
TZOFFSETFROM:+0100
TZOFFSETTO:+0200
TZNAME:CEST
DTSTART:20270328T010000
END:DAYLIGHT
BEGIN:STANDARD
TZOFFSETFROM:+0200
TZOFFSETTO:+0100
TZNAME:CET
DTSTART:20271031T010000
END:STANDARD
END:VTIMEZONE
BEGIN:VEVENT
DTSTART;TZID=Europe/Berlin:20260421T100000
DTEND;TZID=Europe/Berlin:20260421T130000
DTSTAMP:20260421T114638
CREATED:20260324T091437Z
LAST-MODIFIED:20260324T091437Z
UID:437019-1776765600-1776776400@www.ljr-nrw.de
SUMMARY:Plan P. – Extremismus im Gaming – Wissenswertes für Kinder- und Jugendhilfe
DESCRIPTION:Gaming ist längst ein zentraler sozialer Raum für Kinder und Jugendliche – doch auch extremistische Akteur_innen nutzen diese Plattformen gezielt zur Ansprache und Normalisierung ihrer Ideologien. Das Online-Seminar der AJS NRW vermittelt praxisnah\, wie Radikalisierung in Gaming-Communities funktioniert\, welche Rolle Codes\, Memes und scheinbarer „Humor“ spielen und wo problematische Entwicklungen beginnen. Gleichzeitig werden rechtliche Rahmenbedingungen sowie Ansätze für eine präventive\, lebensweltorientierte und demokratiefördernde Arbeit in der Kinder- und Jugendhilfe aufgezeigt. Die Teilnahme ist kostenlos. \nWeitere Informationen hier 
URL:https://www.ljr-nrw.de/termin/plan-p-extremismus-im-gaming-wissenswertes-fuer-kinder-und-jugendhilfe/
LOCATION:Online
CATEGORIES:Termine
ATTACH;FMTTYPE=image/webp:https://www.ljr-nrw.de/wp-content/uploads/2018/11/termin-termine.webp
END:VEVENT
END:VCALENDAR